View In:
ArcGIS JavaScript
ArcGIS Online Map Viewer
ArcGIS Earth
ArcMap
View Footprint In:
ArcGIS Online Map Viewer
Service Description: Historical map showing the extent of property purchased in 1827 as a site for a fortress. It depicts buildings and identifies the owners of the surrounding farms. Soil types and land clearances are noted. Land not cleared is shaded.
Relief shown by hachures.
Scale [1:5,400] 1" to 450 ft.
Map date: 1851
Digital reproduction of map (30 x 39 cm.) in the Public Archives of Canada. National Map Collection. Library and Archives Canada.
Georeferenced and modified from NMC Map number 3584 by Map, Data and GIS Library, Brock University.
Name: EarlyNiagara/ShortHills1851NMC3584
Description: Historical map showing the extent of property purchased in 1827 as a site for a fortress. It depicts buildings and identifies the owners of the surrounding farms. Soil types and land clearances are noted. Land not cleared is shaded.
Relief shown by hachures.
Scale [1:5,400] 1" to 450 ft.
Map date: 1851
Digital reproduction of map (30 x 39 cm.) in the Public Archives of Canada. National Map Collection. Library and Archives Canada.
Georeferenced and modified from NMC Map number 3584 by Map, Data and GIS Library, Brock University.
Single Fused Map Cache: false
Extent:
XMin: 637118.3835653194
YMin: 4767660.981210792
XMax: 639284.0714453193
YMax: 4769441.164813792
Spatial Reference: 26917
(26917)
Initial Extent:
XMin: 637118.3835653194
YMin: 4767660.981210792
XMax: 639284.0714453193
YMax: 4769441.164813792
Spatial Reference: 26917
(26917)
Full Extent:
XMin: 637118.3835653194
YMin: 4767660.981210792
XMax: 639284.0714453193
YMax: 4769441.164813792
Spatial Reference: 26917
(26917)
Pixel Size X: 0.2958589999999977
Pixel Size Y: 0.29585899999998266
Band Count: 1
Pixel Type: U16
RasterFunction Infos: {"rasterFunctionInfos": [{
"name": "None",
"description": "",
"help": ""
}]}
Mensuration Capabilities: Basic
Has Histograms: true
Has Colormap: false
Has Multi Dimensions : false
Rendering Rule:
Min Scale: 0
Max Scale: 0
Copyright Text: ["Signed"]
Service Data Type: esriImageServiceDataTypeGeneric
Min Values: 14
Max Values: 234
Mean Values: 183.14243643571
Standard Deviation Values: 30.610873559594
Object ID Field:
Fields:
None
Default Mosaic Method: Center
Allowed Mosaic Methods:
SortField:
SortValue: null
Mosaic Operator: First
Default Compression Quality: 75
Default Resampling Method: Bilinear
Max Record Count: null
Max Image Height: 4100
Max Image Width: 15000
Max Download Image Count: null
Max Mosaic Image Count: null
Allow Raster Function: true
Allow Copy: true
Allow Analysis: true
Allow Compute TiePoints: false
Supports Statistics: false
Supports Advanced Queries: false
Use StandardizedQueries: true
Raster Type Infos:
Name: Raster Dataset
Description: Supports all ArcGIS Raster Datasets
Help:
Has Raster Attribute Table: false
Edit Fields Info: null
Ownership Based AccessControl For Rasters: null
Child Resources:
Info
Histograms
Statistics
Key Properties
Legend
Raster Function Infos
Supported Operations:
Export Image
Identify
Measure
Compute Histograms
Compute Statistics Histograms
Get Samples
Compute Class Statistics
Query Boundary
Compute Pixel Location
Compute Angles
Validate
Project