View In:
ArcGIS JavaScript
ArcGIS Online Map Viewer
ArcGIS Earth
ArcMap
View Footprint In:
ArcGIS Online Map Viewer
Service Description: Historical map showing streets, buildings, lots, land owners, the first and second Welland Canal and locks. Relief shown by hachures and landform drawings. On verso: Enlarged title -- Town Hall inset picture -- Descriptive notes -- Title page facsimile. This map is a copy of a portion of the original map published by Marcus Smith in 1852. The St. Catharines and Lincoln Historical Society republished the map in 1967 in reduced size but omitted parts of Smith's original 1852 map.
Name: EarlyNiagara/StCatharines1852_
Description: Historical map showing streets, buildings, lots, land owners, the first and second Welland Canal and locks. Relief shown by hachures and landform drawings. On verso: Enlarged title -- Town Hall inset picture -- Descriptive notes -- Title page facsimile. This map is a copy of a portion of the original map published by Marcus Smith in 1852. The St. Catharines and Lincoln Historical Society republished the map in 1967 in reduced size but omitted parts of Smith's original 1852 map.
Single Fused Map Cache: false
Extent:
XMin: 641694.1322015342
YMin: 4778784.714536593
XMax: 644041.543510044
YMax: 4780878.346536216
Spatial Reference: 26917
(26917)
Initial Extent:
XMin: 641694.1322015342
YMin: 4778784.714536593
XMax: 644041.543510044
YMax: 4780878.346536216
Spatial Reference: 26917
(26917)
Full Extent:
XMin: 641694.1322015342
YMin: 4778784.714536593
XMax: 644041.543510044
YMax: 4780878.346536216
Spatial Reference: 26917
(26917)
Pixel Size X: 0.37528558089684466
Pixel Size Y: 0.460543774664107
Band Count: 3
Pixel Type: U8
RasterFunction Infos: {"rasterFunctionInfos": [{
"name": "None",
"description": "",
"help": ""
}]}
Mensuration Capabilities: Basic
Has Histograms: true
Has Colormap: false
Has Multi Dimensions : false
Rendering Rule:
Min Scale: 0
Max Scale: 0
Copyright Text: Brock University Map, Data & GIS Library
Service Data Type: esriImageServiceDataTypeRGB
Min Values: 0, 0, 0
Max Values: 255, 255, 255
Mean Values: 234.88798803449, 214.93875769596, 150.19735683518
Standard Deviation Values: 21.215607841123, 44.345470380179, 44.401996439391
Object ID Field:
Fields:
None
Default Mosaic Method: Center
Allowed Mosaic Methods:
SortField:
SortValue: null
Mosaic Operator: First
Default Compression Quality: 75
Default Resampling Method: Bilinear
Max Record Count: null
Max Image Height: 4100
Max Image Width: 15000
Max Download Image Count: null
Max Mosaic Image Count: null
Allow Raster Function: true
Allow Copy: true
Allow Analysis: true
Allow Compute TiePoints: false
Supports Statistics: false
Supports Advanced Queries: false
Use StandardizedQueries: true
Raster Type Infos:
Name: Raster Dataset
Description: Supports all ArcGIS Raster Datasets
Help:
Has Raster Attribute Table: false
Edit Fields Info: null
Ownership Based AccessControl For Rasters: null
Child Resources:
Info
Histograms
Statistics
Key Properties
Legend
Raster Function Infos
Supported Operations:
Export Image
Identify
Measure
Compute Histograms
Compute Statistics Histograms
Get Samples
Compute Class Statistics
Query Boundary
Compute Pixel Location
Compute Angles
Validate
Project