View In:
ArcGIS JavaScript
ArcGIS Online Map Viewer
ArcGIS Earth
ArcMap
View Footprint In:
ArcGIS Online Map Viewer
Service Description: Historical map shwoing lot and concession numbers, place names, railroads, ward boundaries and county boundaries.
Scale: 2 1/2 miles per inch.
Map date: 1879
Relief shown by hachures.
Map is page 19 of the Atlas of the province of Ontario by counties / published by Miles and Companay, Toronto
Digital reproduction of map (30 x 41 cm.) in the Brock University Map, Data & GIS Library collection.
Georeferenced and modified from Brock call# G 3464 S35 1879 M55 by Map, Data and GIS Library, Brock University.
Name: EarlyNiagara/StCatharines1879
Description: Historical map shwoing lot and concession numbers, place names, railroads, ward boundaries and county boundaries.
Scale: 2 1/2 miles per inch.
Map date: 1879
Relief shown by hachures.
Map is page 19 of the Atlas of the province of Ontario by counties / published by Miles and Companay, Toronto
Digital reproduction of map (30 x 41 cm.) in the Brock University Map, Data & GIS Library collection.
Georeferenced and modified from Brock call# G 3464 S35 1879 M55 by Map, Data and GIS Library, Brock University.
Single Fused Map Cache: false
Extent:
XMin: 640055.2807692527
YMin: 4775962.36889022
XMax: 646504.4924892527
YMax: 4782946.549625221
Spatial Reference: 26917
(26917)
Initial Extent:
XMin: 640055.2807692527
YMin: 4775962.36889022
XMax: 646504.4924892527
YMax: 4782946.549625221
Spatial Reference: 26917
(26917)
Full Extent:
XMin: 640055.2807692527
YMin: 4775962.36889022
XMax: 646504.4924892527
YMax: 4782946.549625221
Spatial Reference: 26917
(26917)
Pixel Size X: 0.8217650000000027
Pixel Size Y: 0.8217650000000482
Band Count: 1
Pixel Type: U16
RasterFunction Infos: {"rasterFunctionInfos": [{
"name": "None",
"description": "",
"help": ""
}]}
Mensuration Capabilities: Basic
Has Histograms: true
Has Colormap: false
Has Multi Dimensions : false
Rendering Rule:
Min Scale: 0
Max Scale: 0
Copyright Text: Publisher: Miles and Company, Toronto.
Map, Data & GIS Library, Brock University.
Service Data Type: esriImageServiceDataTypeGeneric
Min Values: 0
Max Values: 255
Mean Values: 238.096206106
Standard Deviation Values: 40.936251257394
Object ID Field:
Fields:
None
Default Mosaic Method: Center
Allowed Mosaic Methods:
SortField:
SortValue: null
Mosaic Operator: First
Default Compression Quality: 75
Default Resampling Method: Bilinear
Max Record Count: null
Max Image Height: 4100
Max Image Width: 15000
Max Download Image Count: null
Max Mosaic Image Count: null
Allow Raster Function: true
Allow Copy: true
Allow Analysis: true
Allow Compute TiePoints: false
Supports Statistics: false
Supports Advanced Queries: false
Use StandardizedQueries: true
Raster Type Infos:
Name: Raster Dataset
Description: Supports all ArcGIS Raster Datasets
Help:
Has Raster Attribute Table: false
Edit Fields Info: null
Ownership Based AccessControl For Rasters: null
Child Resources:
Info
Histograms
Statistics
Key Properties
Legend
Raster Function Infos
Supported Operations:
Export Image
Identify
Measure
Compute Histograms
Compute Statistics Histograms
Get Samples
Compute Class Statistics
Query Boundary
Compute Pixel Location
Compute Angles
Validate
Project