View In:
ArcGIS JavaScript
ArcGIS Online Map Viewer
ArcGIS Earth
ArcMap
View Footprint In:
ArcGIS Online Map Viewer
Service Description: Historical map showing lot and concession numbers, place names, railroads, ward boundaries and county boundaries.Scale: 2 1/2 miles per inch.Map date: 1879Relief shown by hachures.Map is page 19 of the Atlas of the province of Ontario by counties / published by Miles and Companay, TorontoDigital reproduction of map (30 x 41 cm.) in the Brock University Map, Data & GIS Library collection. Georeferenced and modified from Brock call# G 3464 S35 1879 M55 by Map, Data and GIS Library, Brock University.
Name: EarlyNiagara/StCatharines1879col
Description: Historical map showing lot and concession numbers, place names, railroads, ward boundaries and county boundaries.Scale: 2 1/2 miles per inch.Map date: 1879Relief shown by hachures.Map is page 19 of the Atlas of the province of Ontario by counties / published by Miles and Companay, TorontoDigital reproduction of map (30 x 41 cm.) in the Brock University Map, Data & GIS Library collection. Georeferenced and modified from Brock call# G 3464 S35 1879 M55 by Map, Data and GIS Library, Brock University.
Single Fused Map Cache: false
Extent:
XMin: -8825427.322175937
YMin: 5330703.577303878
XMax: -8816161.45171867
YMax: 5340438.694746743
Spatial Reference: 102100
(3857)
Initial Extent:
XMin: -8825427.322175937
YMin: 5330703.577303878
XMax: -8816161.45171867
YMax: 5340438.694746743
Spatial Reference: 102100
(3857)
Full Extent:
XMin: -8825427.322175937
YMin: 5330703.577303878
XMax: -8816161.45171867
YMax: 5340438.694746743
Spatial Reference: 102100
(3857)
Pixel Size X: 1.2618040000000037
Pixel Size Y: 1.2618039999999726
Band Count: 3
Pixel Type: U16
RasterFunction Infos: {"rasterFunctionInfos": [{
"name": "None",
"description": "",
"help": ""
}]}
Mensuration Capabilities: Basic
Has Histograms: true
Has Colormap: false
Has Multi Dimensions : false
Rendering Rule:
Min Scale: 144447.638572
Max Scale: 2256.994353
Copyright Text: Publisher: Miles and Company, Toronto.
Map, Data & GIS Library, Brock University.
Service Data Type: esriImageServiceDataTypeGeneric
Min Values: 47, 48, 37
Max Values: 257, 255, 255
Mean Values: 189.15996501909, 174.05054369655, 142.07091472057
Standard Deviation Values: 25.36284655628, 22.567628685591, 19.22369023006
Object ID Field:
Fields:
None
Default Mosaic Method: Center
Allowed Mosaic Methods:
SortField:
SortValue: null
Mosaic Operator: First
Default Compression Quality: 75
Default Resampling Method: Bilinear
Max Record Count: null
Max Image Height: 4100
Max Image Width: 15000
Max Download Image Count: null
Max Mosaic Image Count: null
Allow Raster Function: true
Allow Copy: true
Allow Analysis: true
Allow Compute TiePoints: false
Supports Statistics: false
Supports Advanced Queries: false
Use StandardizedQueries: true
Raster Type Infos:
Name: Raster Dataset
Description: Supports all ArcGIS Raster Datasets
Help:
Has Raster Attribute Table: false
Edit Fields Info: null
Ownership Based AccessControl For Rasters: null
Child Resources:
Info
Histograms
Statistics
Key Properties
Legend
Raster Function Infos
Supported Operations:
Export Image
Identify
Measure
Compute Histograms
Compute Statistics Histograms
Get Samples
Compute Class Statistics
Query Boundary
Compute Pixel Location
Compute Angles
Validate
Project