View In:
ArcGIS JavaScript
ArcGIS Online Map Viewer
ArcGIS Earth
ArcMap
View Footprint In:
ArcGIS Online Map Viewer
Service Description: Historical map showing bird's eye view of St. Catharines' buildings and the route of the second canal through the city, and a section of the third canal. Includes illustrations of 29 buildings.
Major companies and business firms are listed with names, with four in Thorold and one in Merriton.
Relief shown by shading.
Map date: 1890?
Georeferenced and modified from Brock call# G 3464 S35 A3 1890 S33 by Map, Data and GIS Library, Brock University.
Name: EarlyNiagara/StCatharines1890
Description: Historical map showing bird's eye view of St. Catharines' buildings and the route of the second canal through the city, and a section of the third canal. Includes illustrations of 29 buildings.
Major companies and business firms are listed with names, with four in Thorold and one in Merriton.
Relief shown by shading.
Map date: 1890?
Georeferenced and modified from Brock call# G 3464 S35 A3 1890 S33 by Map, Data and GIS Library, Brock University.
Single Fused Map Cache: false
Extent:
XMin: 641092.6550819621
YMin: 4778142.422337927
XMax: 644728.2419279622
YMax: 4782124.478838927
Spatial Reference: 26917
(26917)
Initial Extent:
XMin: 641092.6550819621
YMin: 4778142.422337927
XMax: 644728.2419279622
YMax: 4782124.478838927
Spatial Reference: 26917
(26917)
Full Extent:
XMin: 641092.6550819621
YMin: 4778142.422337927
XMax: 644728.2419279622
YMax: 4782124.478838927
Spatial Reference: 26917
(26917)
Pixel Size X: 0.5210070000000071
Pixel Size Y: 0.5210070000000246
Band Count: 1
Pixel Type: U32
RasterFunction Infos: {"rasterFunctionInfos": [{
"name": "None",
"description": "",
"help": ""
}]}
Mensuration Capabilities: Basic
Has Histograms: false
Has Colormap: false
Has Multi Dimensions : false
Rendering Rule:
Min Scale: 0
Max Scale: 0
Copyright Text: Published by Sabiston Lith. & Pub. Co.
Map, Data & GIS Library, Brock University.
Service Data Type: esriImageServiceDataTypeGeneric
Min Values: N/A
Max Values: N/A
Mean Values: N/A
Standard Deviation Values: N/A
Object ID Field:
Fields:
None
Default Mosaic Method: Center
Allowed Mosaic Methods:
SortField:
SortValue: null
Mosaic Operator: First
Default Compression Quality: 75
Default Resampling Method: Bilinear
Max Record Count: null
Max Image Height: 4100
Max Image Width: 15000
Max Download Image Count: null
Max Mosaic Image Count: null
Allow Raster Function: true
Allow Copy: true
Allow Analysis: true
Allow Compute TiePoints: false
Supports Statistics: false
Supports Advanced Queries: false
Use StandardizedQueries: true
Raster Type Infos:
Name: Raster Dataset
Description: Supports all ArcGIS Raster Datasets
Help:
Has Raster Attribute Table: false
Edit Fields Info: null
Ownership Based AccessControl For Rasters: null
Child Resources:
Info
Statistics
Key Properties
Legend
Raster Function Infos
Supported Operations:
Export Image
Identify
Measure
Compute Histograms
Compute Statistics Histograms
Get Samples
Compute Class Statistics
Query Boundary
Compute Pixel Location
Compute Angles
Validate
Project