View In:
ArcGIS JavaScript
ArcGIS Online Map Viewer
ArcGIS Earth
ArcMap
View Footprint In:
ArcGIS Online Map Viewer
Service Description: Map date: 1899
Scale [ca. 1:4,800] = 100 feet to an inch.
Digital reproduction of map (69 x 104 cm.) in the Brock University Map, Data & GIS Library collection.
Relief shown by hachures.
Georeferenced and modified from Brock call# G 3464 S35 1899 S36 by Map, Data and GIS Library, Brock University.
Name: EarlyNiagara/StCatharines1899
Description: Map date: 1899
Scale [ca. 1:4,800] = 100 feet to an inch.
Digital reproduction of map (69 x 104 cm.) in the Brock University Map, Data & GIS Library collection.
Relief shown by hachures.
Georeferenced and modified from Brock call# G 3464 S35 1899 S36 by Map, Data and GIS Library, Brock University.
Single Fused Map Cache: false
Extent:
XMin: -8825028.415957231
YMin: 5333049.267068191
XMax: -8816953.462191232
YMax: 5339969.695862192
Spatial Reference: 102100
(3857)
Initial Extent:
XMin: -8825028.415957231
YMin: 5333049.267068191
XMax: -8816953.462191232
YMax: 5339969.695862192
Spatial Reference: 102100
(3857)
Full Extent:
XMin: -8825028.415957231
YMin: 5333049.267068191
XMax: -8816953.462191232
YMax: 5339969.695862192
Spatial Reference: 102100
(3857)
Pixel Size X: 0.7467819999999561
Pixel Size Y: 0.7467820000000321
Band Count: 3
Pixel Type: U16
RasterFunction Infos: {"rasterFunctionInfos": [{
"name": "None",
"description": "",
"help": ""
}]}
Mensuration Capabilities: Basic
Has Histograms: true
Has Colormap: false
Has Multi Dimensions : false
Rendering Rule:
Min Scale: 0
Max Scale: 0
Copyright Text: Map, Data & GIS Library, Brock University.
Service Data Type: esriImageServiceDataTypeGeneric
Min Values: 0, 0, 0
Max Values: 255, 255, 255
Mean Values: 207.91885512648, 186.2704795456, 167.36296429319
Standard Deviation Values: 39.954176439029, 37.194572284312, 32.317555536737
Object ID Field:
Fields:
None
Default Mosaic Method: Center
Allowed Mosaic Methods:
SortField:
SortValue: null
Mosaic Operator: First
Default Compression Quality: 75
Default Resampling Method: Bilinear
Max Record Count: null
Max Image Height: 4100
Max Image Width: 15000
Max Download Image Count: null
Max Mosaic Image Count: null
Allow Raster Function: true
Allow Copy: true
Allow Analysis: true
Allow Compute TiePoints: false
Supports Statistics: false
Supports Advanced Queries: false
Use StandardizedQueries: true
Raster Type Infos:
Name: Raster Dataset
Description: Supports all ArcGIS Raster Datasets
Help:
Has Raster Attribute Table: false
Edit Fields Info: null
Ownership Based AccessControl For Rasters: null
Child Resources:
Info
Histograms
Statistics
Key Properties
Legend
Raster Function Infos
Supported Operations:
Export Image
Identify
Measure
Compute Histograms
Compute Statistics Histograms
Get Samples
Compute Class Statistics
Query Boundary
Compute Pixel Location
Compute Angles
Validate
Project