View In:
ArcGIS JavaScript
ArcGIS Online Map Viewer
ArcGIS Earth
ArcMap
View Footprint In:
ArcGIS Online Map Viewer
Service Description: Historical map showing roads, city planning, growth, new subdivisions.
Digital reproduction of map 66 x 11 cm.
"City Engineer's Office, St. Catharines" in margin.
Georeferenced and modified by Map, Data and GIS Library, Brock University.
Name: EarlyNiagara/StCatharines1911
Description: Historical map showing roads, city planning, growth, new subdivisions.
Digital reproduction of map 66 x 11 cm.
"City Engineer's Office, St. Catharines" in margin.
Georeferenced and modified by Map, Data and GIS Library, Brock University.
Single Fused Map Cache: false
Extent:
XMin: 640738.8353529215
YMin: 4778186.332761613
XMax: 645514.4071929215
YMax: 4782502.141014612
Spatial Reference: 26917
(26917)
Initial Extent:
XMin: 640738.8353529215
YMin: 4778186.332761613
XMax: 645514.4071929215
YMax: 4782502.141014612
Spatial Reference: 26917
(26917)
Full Extent:
XMin: 640738.8353529215
YMin: 4778186.332761613
XMax: 645514.4071929215
YMax: 4782502.141014612
Spatial Reference: 26917
(26917)
Pixel Size X: 0.5739869999999988
Pixel Size Y: 0.5739869999999414
Band Count: 3
Pixel Type: U16
RasterFunction Infos: {"rasterFunctionInfos": [{
"name": "None",
"description": "",
"help": ""
}]}
Mensuration Capabilities: Basic
Has Histograms: true
Has Colormap: false
Has Multi Dimensions : false
Rendering Rule:
Min Scale: 0
Max Scale: 0
Copyright Text: Map, Data & GIS Library, Brock University.
Service Data Type: esriImageServiceDataTypeGeneric
Min Values: 72, 72, 72
Max Values: 255, 255, 255
Mean Values: 215.83429022557, 215.83429022557, 215.83429022557
Standard Deviation Values: 27.971776802562, 27.971776802562, 27.971776802562
Object ID Field:
Fields:
None
Default Mosaic Method: Center
Allowed Mosaic Methods:
SortField:
SortValue: null
Mosaic Operator: First
Default Compression Quality: 75
Default Resampling Method: Bilinear
Max Record Count: null
Max Image Height: 4100
Max Image Width: 15000
Max Download Image Count: null
Max Mosaic Image Count: null
Allow Raster Function: true
Allow Copy: true
Allow Analysis: true
Allow Compute TiePoints: false
Supports Statistics: false
Supports Advanced Queries: false
Use StandardizedQueries: true
Raster Type Infos:
Name: Raster Dataset
Description: Supports all ArcGIS Raster Datasets
Help:
Has Raster Attribute Table: false
Edit Fields Info: null
Ownership Based AccessControl For Rasters: null
Child Resources:
Info
Histograms
Statistics
Key Properties
Legend
Raster Function Infos
Supported Operations:
Export Image
Identify
Measure
Compute Histograms
Compute Statistics Histograms
Get Samples
Compute Class Statistics
Query Boundary
Compute Pixel Location
Compute Angles
Validate
Project