View In:
ArcGIS JavaScript
ArcGIS Online Map Viewer
ArcGIS Earth
ArcMap
View Footprint In:
ArcGIS Online Map Viewer
Service Description: Historical map showing street index, places of interest, businesses, cultural features, railroads, city and township boundaries, 'Old Welland Canal', legend.
Scale [ca. 1:15,277]
Map date: [1932]
Digital reproduction of map (57 x 71 cm.) in the Brock University Map, Data & GIS Library collection.
Georeferenced and modified from Brock call# G 3464 S35 1932 S37 by Map, Data and GIS Library, Brock University.
Name: EarlyNiagara/StCatharines1932
Description: Historical map showing street index, places of interest, businesses, cultural features, railroads, city and township boundaries, 'Old Welland Canal', legend.
Scale [ca. 1:15,277]
Map date: [1932]
Digital reproduction of map (57 x 71 cm.) in the Brock University Map, Data & GIS Library collection.
Georeferenced and modified from Brock call# G 3464 S35 1932 S37 by Map, Data and GIS Library, Brock University.
Single Fused Map Cache: false
Extent:
XMin: 636496.3702270358
YMin: 4773006.614528023
XMax: 650485.2026720358
YMax: 4786165.426713022
Spatial Reference: 26917
(26917)
Initial Extent:
XMin: 636496.3702270358
YMin: 4773006.614528023
XMax: 650485.2026720358
YMax: 4786165.426713022
Spatial Reference: 26917
(26917)
Full Extent:
XMin: 636496.3702270358
YMin: 4773006.614528023
XMax: 650485.2026720358
YMax: 4786165.426713022
Spatial Reference: 26917
(26917)
Pixel Size X: 1.8694149999999932
Pixel Size Y: 1.869414999999957
Band Count: 1
Pixel Type: U16
RasterFunction Infos: {"rasterFunctionInfos": [{
"name": "None",
"description": "",
"help": ""
}]}
Mensuration Capabilities: Basic
Has Histograms: true
Has Colormap: false
Has Multi Dimensions : false
Rendering Rule:
Min Scale: 0
Max Scale: 0
Copyright Text: Published by The S.A. Renouf Advertising.
Map, Data & GIS Library, Brock University.
Service Data Type: esriImageServiceDataTypeGeneric
Min Values: 0
Max Values: 255
Mean Values: 214.55544886123
Standard Deviation Values: 76.328731628813
Object ID Field:
Fields:
None
Default Mosaic Method: Center
Allowed Mosaic Methods:
SortField:
SortValue: null
Mosaic Operator: First
Default Compression Quality: 75
Default Resampling Method: Bilinear
Max Record Count: null
Max Image Height: 4100
Max Image Width: 15000
Max Download Image Count: null
Max Mosaic Image Count: null
Allow Raster Function: true
Allow Copy: true
Allow Analysis: true
Allow Compute TiePoints: false
Supports Statistics: false
Supports Advanced Queries: false
Use StandardizedQueries: true
Raster Type Infos:
Name: Raster Dataset
Description: Supports all ArcGIS Raster Datasets
Help:
Has Raster Attribute Table: false
Edit Fields Info: null
Ownership Based AccessControl For Rasters: null
Child Resources:
Info
Histograms
Statistics
Key Properties
Legend
Raster Function Infos
Supported Operations:
Export Image
Identify
Measure
Compute Histograms
Compute Statistics Histograms
Get Samples
Compute Class Statistics
Query Boundary
Compute Pixel Location
Compute Angles
Validate
Project