View In:
ArcGIS JavaScript
ArcGIS Online Map Viewer
ArcGIS Earth
ArcMap
View Footprint In:
ArcGIS Online Map Viewer
Service Description: Historical map showing city planning, land use, streets, lot and concession numbers.
This plan is prepared under instructions no. 791 received from the Surveyor General of the Province of Ontario dated the 28th day of December 1934. Dated at St. Catharines this 31st day of March 1936.
Scale [1:2,400]
Map date: 1936
Digital reproduction of map (135 x 81 cm.) in the Brock University Map, Data & GIS Library collection.
Georeferenced and modified from Brock call# G 3464 S35 1936 R87 by Map, Data and GIS Library, Brock University.
Name: EarlyNiagara/StCatharines1936
Description: Historical map showing city planning, land use, streets, lot and concession numbers.
This plan is prepared under instructions no. 791 received from the Surveyor General of the Province of Ontario dated the 28th day of December 1934. Dated at St. Catharines this 31st day of March 1936.
Scale [1:2,400]
Map date: 1936
Digital reproduction of map (135 x 81 cm.) in the Brock University Map, Data & GIS Library collection.
Georeferenced and modified from Brock call# G 3464 S35 1936 R87 by Map, Data and GIS Library, Brock University.
Single Fused Map Cache: false
Extent:
XMin: 641098.0155272008
YMin: 4777468.941172074
XMax: 643315.3166522008
YMax: 4781091.460165073
Spatial Reference: 26917
(26917)
Initial Extent:
XMin: 641098.0155272008
YMin: 4777468.941172074
XMax: 643315.3166522008
YMax: 4781091.460165073
Spatial Reference: 26917
(26917)
Full Extent:
XMin: 641098.0155272008
YMin: 4777468.941172074
XMax: 643315.3166522008
YMax: 4781091.460165073
Spatial Reference: 26917
(26917)
Pixel Size X: 0.10496099999999992
Pixel Size Y: 0.1049609999999875
Band Count: 3
Pixel Type: U16
RasterFunction Infos: {"rasterFunctionInfos": [{
"name": "None",
"description": "",
"help": ""
}]}
Mensuration Capabilities: Basic
Has Histograms: true
Has Colormap: false
Has Multi Dimensions : false
Rendering Rule:
Min Scale: 0
Max Scale: 0
Copyright Text: Rutherford and Ure Engineers & Surveyors.
Map, Data & GIS Library, Brock University.
Service Data Type: esriImageServiceDataTypeGeneric
Min Values: 0, 0, 0
Max Values: 255, 255, 255
Mean Values: 233.49141100001, 220.280830315, 187.25024123787
Standard Deviation Values: 44.071260873324, 42.842724338864, 33.676861921818
Object ID Field:
Fields:
None
Default Mosaic Method: Center
Allowed Mosaic Methods:
SortField:
SortValue: null
Mosaic Operator: First
Default Compression Quality: 75
Default Resampling Method: Bilinear
Max Record Count: null
Max Image Height: 4100
Max Image Width: 15000
Max Download Image Count: null
Max Mosaic Image Count: null
Allow Raster Function: true
Allow Copy: true
Allow Analysis: true
Allow Compute TiePoints: false
Supports Statistics: false
Supports Advanced Queries: false
Use StandardizedQueries: true
Raster Type Infos:
Name: Raster Dataset
Description: Supports all ArcGIS Raster Datasets
Help:
Has Raster Attribute Table: false
Edit Fields Info: null
Ownership Based AccessControl For Rasters: null
Child Resources:
Info
Histograms
Statistics
Key Properties
Legend
Raster Function Infos
Supported Operations:
Export Image
Identify
Measure
Compute Histograms
Compute Statistics Histograms
Get Samples
Compute Class Statistics
Query Boundary
Compute Pixel Location
Compute Angles
Validate
Project