View In:
ArcGIS JavaScript
ArcGIS Online Map Viewer
ArcGIS Earth
ArcMap
View Footprint In:
ArcGIS Online Map Viewer
Service Description: Map date: 1968?Scale [ca. 1:1,666]. Digital reproduction of map (77 x 58 cm.) in the Brock University Map, Data & GIS Library. Georeferenced and modified from Brock call # G 3464 S35 1968 M37, by Map, Data and GIS Library, Brock University.
Name: EarlyNiagara/StCatharines1968
Description: Map date: 1968?Scale [ca. 1:1,666]. Digital reproduction of map (77 x 58 cm.) in the Brock University Map, Data & GIS Library. Georeferenced and modified from Brock call # G 3464 S35 1968 M37, by Map, Data and GIS Library, Brock University.
Single Fused Map Cache: false
Extent:
XMin: -8830645.28455882
YMin: 5326739.858712283
XMax: -8814797.06290382
YMax: 5347579.865011283
Spatial Reference: 102100
(3857)
Initial Extent:
XMin: -8830645.28455882
YMin: 5326739.858712283
XMax: -8814797.06290382
YMax: 5347579.865011283
Spatial Reference: 102100
(3857)
Full Extent:
XMin: -8830645.28455882
YMin: 5326739.858712283
XMax: -8814797.06290382
YMax: 5347579.865011283
Spatial Reference: 102100
(3857)
Pixel Size X: 2.315299
Pixel Size Y: 2.3152990000000258
Band Count: 3
Pixel Type: U16
RasterFunction Infos: {"rasterFunctionInfos": [{
"name": "None",
"description": "",
"help": ""
}]}
Mensuration Capabilities: Basic
Has Histograms: false
Has Colormap: false
Has Multi Dimensions : false
Rendering Rule:
Min Scale: 0
Max Scale: 0
Copyright Text: Master Advertising Co. (Hamilton, Ont.)
Map, Data & GIS Library, Brock University.
Service Data Type: esriImageServiceDataTypeGeneric
Min Values: 0, 0, 0
Max Values: 255, 255, 255
Mean Values: 219.53197055067, 217.38374885155, 218.90660928148
Standard Deviation Values: 41.252369275523, 35.073060148565, 24.381859556162
Object ID Field:
Fields:
None
Default Mosaic Method: Center
Allowed Mosaic Methods:
SortField:
SortValue: null
Mosaic Operator: First
Default Compression Quality: 75
Default Resampling Method: Bilinear
Max Record Count: null
Max Image Height: 4100
Max Image Width: 15000
Max Download Image Count: null
Max Mosaic Image Count: null
Allow Raster Function: true
Allow Copy: true
Allow Analysis: true
Allow Compute TiePoints: false
Supports Statistics: false
Supports Advanced Queries: false
Use StandardizedQueries: true
Raster Type Infos:
Name: Raster Dataset
Description: Supports all ArcGIS Raster Datasets
Help:
Has Raster Attribute Table: false
Edit Fields Info: null
Ownership Based AccessControl For Rasters: null
Child Resources:
Info
Statistics
Key Properties
Legend
Raster Function Infos
Supported Operations:
Export Image
Identify
Measure
Compute Histograms
Compute Statistics Histograms
Get Samples
Compute Class Statistics
Query Boundary
Compute Pixel Location
Compute Angles
Validate
Project