View In:
ArcGIS JavaScript
ArcGIS Online Map Viewer
ArcGIS Earth
ArcMap
View Footprint In:
ArcGIS Online Map Viewer
Service Description: Map showing street index, places of interest, legend.
Name: EarlyNiagara/StCatharines1970
Description: Map showing street index, places of interest, legend.
Single Fused Map Cache: false
Extent:
XMin: 636086.1774813097
YMin: 4770556.326560212
XMax: 651323.1918545127
YMax: 4788800.546251422
Spatial Reference: 26917
(26917)
Initial Extent:
XMin: 636086.1774813097
YMin: 4770556.326560212
XMax: 651323.1918545127
YMax: 4788800.546251422
Spatial Reference: 26917
(26917)
Full Extent:
XMin: 636086.1774813097
YMin: 4770556.326560212
XMax: 651323.1918545127
YMax: 4788800.546251422
Spatial Reference: 26917
(26917)
Pixel Size X: 1.1435765815973375
Pixel Size Y: 1.0783910445211902
Band Count: 3
Pixel Type: U8
RasterFunction Infos: {"rasterFunctionInfos": [{
"name": "None",
"description": "",
"help": ""
}]}
Mensuration Capabilities: Basic
Has Histograms: true
Has Colormap: false
Has Multi Dimensions : false
Rendering Rule:
Min Scale: 0
Max Scale: 0
Copyright Text: Brock University Map, Data & GIS Library
Service Data Type: esriImageServiceDataTypeRGB
Min Values: 0, 0, 0
Max Values: 255, 255, 255
Mean Values: 229.59162969822, 230.11643452604, 222.09612188387
Standard Deviation Values: 52.289715513071, 49.416810592964, 38.567089012893
Object ID Field:
Fields:
None
Default Mosaic Method: Center
Allowed Mosaic Methods:
SortField:
SortValue: null
Mosaic Operator: First
Default Compression Quality: 75
Default Resampling Method: Bilinear
Max Record Count: null
Max Image Height: 4100
Max Image Width: 15000
Max Download Image Count: null
Max Mosaic Image Count: null
Allow Raster Function: true
Allow Copy: true
Allow Analysis: true
Allow Compute TiePoints: false
Supports Statistics: false
Supports Advanced Queries: false
Use StandardizedQueries: true
Raster Type Infos:
Name: Raster Dataset
Description: Supports all ArcGIS Raster Datasets
Help:
Has Raster Attribute Table: false
Edit Fields Info: null
Ownership Based AccessControl For Rasters: null
Child Resources:
Info
Histograms
Statistics
Key Properties
Legend
Raster Function Infos
Supported Operations:
Export Image
Identify
Measure
Compute Histograms
Compute Statistics Histograms
Get Samples
Compute Class Statistics
Query Boundary
Compute Pixel Location
Compute Angles
Validate
Project