View In:
ArcGIS JavaScript
ArcGIS Online Map Viewer
ArcGIS Earth
ArcMap
View Footprint In:
ArcGIS Online Map Viewer
Service Description: Map of St. Catharines showing streets, railways, city limits, rivers, cemeteries, hospitals, schools. Includes business advertisements in margin. Panel title. Includes street index and parks and recreation index. Title on recto: City of St. Catharines -- Ancillary map on verso: The Regional Municipality of Niagara.
Name: EarlyNiagara/StCatharines1971
Description: Map of St. Catharines showing streets, railways, city limits, rivers, cemeteries, hospitals, schools. Includes business advertisements in margin. Panel title. Includes street index and parks and recreation index. Title on recto: City of St. Catharines -- Ancillary map on verso: The Regional Municipality of Niagara.
Single Fused Map Cache: false
Extent:
XMin: 634029.1167242916
YMin: 4767895.233806932
XMax: 651416.2613244423
YMax: 4793725.487260664
Spatial Reference: 26917
(26917)
Initial Extent:
XMin: 634029.1167242916
YMin: 4767895.233806932
XMax: 651416.2613244423
YMax: 4793725.487260664
Spatial Reference: 26917
(26917)
Full Extent:
XMin: 634029.1167242916
YMin: 4767895.233806932
XMax: 651416.2613244423
YMax: 4793725.487260664
Spatial Reference: 26917
(26917)
Pixel Size X: 2.173393075018845
Pixel Size Y: 2.0888123446329887
Band Count: 3
Pixel Type: U8
RasterFunction Infos: {"rasterFunctionInfos": [{
"name": "None",
"description": "",
"help": ""
}]}
Mensuration Capabilities: Basic
Has Histograms: true
Has Colormap: false
Has Multi Dimensions : false
Rendering Rule:
Min Scale: 0
Max Scale: 0
Copyright Text: Brock University Map, Data & GIS Library
Service Data Type: esriImageServiceDataTypeRGB
Min Values: 0, 0, 0
Max Values: 255, 255, 255
Mean Values: 215.77462763835, 208.31003895761, 200.7755894186
Standard Deviation Values: 66.986613758952, 74.954518216363, 76.678659549905
Object ID Field:
Fields:
None
Default Mosaic Method: Center
Allowed Mosaic Methods:
SortField:
SortValue: null
Mosaic Operator: First
Default Compression Quality: 75
Default Resampling Method: Bilinear
Max Record Count: null
Max Image Height: 4100
Max Image Width: 15000
Max Download Image Count: null
Max Mosaic Image Count: null
Allow Raster Function: true
Allow Copy: true
Allow Analysis: true
Allow Compute TiePoints: false
Supports Statistics: false
Supports Advanced Queries: false
Use StandardizedQueries: true
Raster Type Infos:
Name: Raster Dataset
Description: Supports all ArcGIS Raster Datasets
Help:
Has Raster Attribute Table: false
Edit Fields Info: null
Ownership Based AccessControl For Rasters: null
Child Resources:
Info
Histograms
Statistics
Key Properties
Legend
Raster Function Infos
Supported Operations:
Export Image
Identify
Measure
Compute Histograms
Compute Statistics Histograms
Get Samples
Compute Class Statistics
Query Boundary
Compute Pixel Location
Compute Angles
Validate
Project