View In:
ArcGIS JavaScript
ArcGIS Online Map Viewer
ArcGIS Earth
ArcMap
View Footprint In:
ArcGIS Online Map Viewer
Service Description: Map showing road, transportation, cultural and hydrological features, power lines, the Niagara Escarpment, legend. Ozalid print.
Name: EarlyNiagara/StCatharines1971_1
Description: Map showing road, transportation, cultural and hydrological features, power lines, the Niagara Escarpment, legend. Ozalid print.
Single Fused Map Cache: false
Extent:
XMin: 635923.572934259
YMin: 4772988.106248661
XMax: 649346.0595099715
YMax: 4790447.499905156
Spatial Reference: 26917
(26917)
Initial Extent:
XMin: 635923.572934259
YMin: 4772988.106248661
XMax: 649346.0595099715
YMax: 4790447.499905156
Spatial Reference: 26917
(26917)
Full Extent:
XMin: 635923.572934259
YMin: 4772988.106248661
XMax: 649346.0595099715
YMax: 4790447.499905156
Spatial Reference: 26917
(26917)
Pixel Size X: 1.6778108219640708
Pixel Size Y: 1.6542916104315926
Band Count: 1
Pixel Type: U8
RasterFunction Infos: {"rasterFunctionInfos": [{
"name": "None",
"description": "",
"help": ""
}]}
Mensuration Capabilities: Basic
Has Histograms: true
Has Colormap: false
Has Multi Dimensions : false
Rendering Rule:
Min Scale: 0
Max Scale: 0
Copyright Text:
Service Data Type: esriImageServiceDataTypeGeneric
Min Values: 0
Max Values: 255
Mean Values: 241.37229166672
Standard Deviation Values: 42.771634182832
Object ID Field:
Fields:
None
Default Mosaic Method: Center
Allowed Mosaic Methods:
SortField:
SortValue: null
Mosaic Operator: First
Default Compression Quality: 75
Default Resampling Method: Bilinear
Max Record Count: null
Max Image Height: 4100
Max Image Width: 15000
Max Download Image Count: null
Max Mosaic Image Count: null
Allow Raster Function: true
Allow Copy: true
Allow Analysis: true
Allow Compute TiePoints: false
Supports Statistics: false
Supports Advanced Queries: false
Use StandardizedQueries: true
Raster Type Infos:
Name: Raster Dataset
Description: Supports all ArcGIS Raster Datasets
Help:
Has Raster Attribute Table: false
Edit Fields Info: null
Ownership Based AccessControl For Rasters: null
Child Resources:
Info
Histograms
Statistics
Key Properties
Legend
Raster Function Infos
Supported Operations:
Export Image
Identify
Measure
Compute Histograms
Compute Statistics Histograms
Get Samples
Compute Class Statistics
Query Boundary
Compute Pixel Location
Compute Angles
Validate
Project