View In:
ArcGIS JavaScript
ArcGIS Online Map Viewer
ArcGIS Earth
ArcMap
View Footprint In:
ArcGIS Online Map Viewer
Service Description: Map showing street, transportation, cultural and recreational features, street numbering, ground cover, points of interest, indexes, legend.
Name: EarlyNiagara/StCatharines1973
Description: Map showing street, transportation, cultural and recreational features, street numbering, ground cover, points of interest, indexes, legend.
Single Fused Map Cache: false
Extent:
XMin: 637920.0058243662
YMin: 4774085.3275207
XMax: 647792.3562749387
YMax: 4788103.193354088
Spatial Reference: 26917
(26917)
Initial Extent:
XMin: 637920.0058243662
YMin: 4774085.3275207
XMax: 647792.3562749387
YMax: 4788103.193354088
Spatial Reference: 26917
(26917)
Full Extent:
XMin: 637920.0058243662
YMin: 4774085.3275207
XMax: 647792.3562749387
YMax: 4788103.193354088
Spatial Reference: 26917
(26917)
Pixel Size X: 1.234043806321555
Pixel Size Y: 1.1368909840541532
Band Count: 3
Pixel Type: U8
RasterFunction Infos: {"rasterFunctionInfos": [{
"name": "None",
"description": "",
"help": ""
}]}
Mensuration Capabilities: Basic
Has Histograms: true
Has Colormap: false
Has Multi Dimensions : false
Rendering Rule:
Min Scale: 0
Max Scale: 0
Copyright Text: Brock University Map, Data & GIS Library
Service Data Type: esriImageServiceDataTypeRGB
Min Values: 0, 0, 0
Max Values: 255, 255, 255
Mean Values: 190.4185527879, 187.31214685728, 172.21580291972
Standard Deviation Values: 64.461211467391, 58.234591962951, 55.757592908266
Object ID Field:
Fields:
None
Default Mosaic Method: Center
Allowed Mosaic Methods:
SortField:
SortValue: null
Mosaic Operator: First
Default Compression Quality: 75
Default Resampling Method: Bilinear
Max Record Count: null
Max Image Height: 4100
Max Image Width: 15000
Max Download Image Count: null
Max Mosaic Image Count: null
Allow Raster Function: true
Allow Copy: true
Allow Analysis: true
Allow Compute TiePoints: false
Supports Statistics: false
Supports Advanced Queries: false
Use StandardizedQueries: true
Raster Type Infos:
Name: Raster Dataset
Description: Supports all ArcGIS Raster Datasets
Help:
Has Raster Attribute Table: false
Edit Fields Info: null
Ownership Based AccessControl For Rasters: null
Child Resources:
Info
Histograms
Statistics
Key Properties
Legend
Raster Function Infos
Supported Operations:
Export Image
Identify
Measure
Compute Histograms
Compute Statistics Histograms
Get Samples
Compute Class Statistics
Query Boundary
Compute Pixel Location
Compute Angles
Validate
Project