View In:
ArcGIS JavaScript
ArcGIS Online Map Viewer
ArcGIS Earth
ArcMap
View Footprint In:
ArcGIS Online Map Viewer
Service Description: Historical map showing numbered census tract boundaries.
Map date: 1966
Digital reproduction of map in the Brock University Map, Data & GIS Library collection.
Georeferenced and modified by Map, Data and GIS Library, Brock University.
Name: EarlyNiagara/StCatharinesCensusTracts1966
Description: Historical map showing numbered census tract boundaries.
Map date: 1966
Digital reproduction of map in the Brock University Map, Data & GIS Library collection.
Georeferenced and modified by Map, Data and GIS Library, Brock University.
Single Fused Map Cache: false
Extent:
XMin: 639071.1406201173
YMin: 4773818.499369476
XMax: 649081.9864651173
YMax: 4787961.355239476
Spatial Reference: 26917
(26917)
Initial Extent:
XMin: 639071.1406201173
YMin: 4773818.499369476
XMax: 649081.9864651173
YMax: 4787961.355239476
Spatial Reference: 26917
(26917)
Full Extent:
XMin: 639071.1406201173
YMin: 4773818.499369476
XMax: 649081.9864651173
YMax: 4787961.355239476
Spatial Reference: 26917
(26917)
Pixel Size X: 1.6495050000000007
Pixel Size Y: 1.6495050000000102
Band Count: 3
Pixel Type: U16
RasterFunction Infos: {"rasterFunctionInfos": [{
"name": "None",
"description": "",
"help": ""
}]}
Mensuration Capabilities: Basic
Has Histograms: true
Has Colormap: false
Has Multi Dimensions : false
Rendering Rule:
Min Scale: 0
Max Scale: 0
Copyright Text: ["Prepared by City of St. Catharines"]
Service Data Type: esriImageServiceDataTypeGeneric
Min Values: 0, 0, 0
Max Values: 255, 255, 255
Mean Values: 243.67360225371, 205.3945517981, 123.90545916746
Standard Deviation Values: 11.637015576321, 13.077306289589, 15.887803132695
Object ID Field:
Fields:
None
Default Mosaic Method: Center
Allowed Mosaic Methods:
SortField:
SortValue: null
Mosaic Operator: First
Default Compression Quality: 75
Default Resampling Method: Bilinear
Max Record Count: null
Max Image Height: 4100
Max Image Width: 15000
Max Download Image Count: null
Max Mosaic Image Count: null
Allow Raster Function: true
Allow Copy: true
Allow Analysis: true
Allow Compute TiePoints: false
Supports Statistics: false
Supports Advanced Queries: false
Use StandardizedQueries: true
Raster Type Infos:
Name: Raster Dataset
Description: Supports all ArcGIS Raster Datasets
Help:
Has Raster Attribute Table: false
Edit Fields Info: null
Ownership Based AccessControl For Rasters: null
Child Resources:
Info
Histograms
Statistics
Key Properties
Legend
Raster Function Infos
Supported Operations:
Export Image
Identify
Measure
Compute Histograms
Compute Statistics Histograms
Get Samples
Compute Class Statistics
Query Boundary
Compute Pixel Location
Compute Angles
Validate
Project