View In:
ArcGIS JavaScript
ArcGIS Online Map Viewer
ArcGIS Earth
ArcMap
View Footprint In:
ArcGIS Online Map Viewer
Service Description: Maps showing land use features, residential, commercial, industrial, institutional, park & open spaces, urbanized areas, boundaries, legend.
St. Catharines Urban Renewal Study map no.3
Scale 1:12,000
Map date: 1966
Digital reproduction of map in the Brock University Map, Data & GIS Library collection.
Georeferenced and modified from Brock call# G 3464 S35 G4 1966 S35 by Map, Data and GIS Library, Brock University.
Name: EarlyNiagara/StCatharinesExistingLandUse1966
Description: Maps showing land use features, residential, commercial, industrial, institutional, park & open spaces, urbanized areas, boundaries, legend.
St. Catharines Urban Renewal Study map no.3
Scale 1:12,000
Map date: 1966
Digital reproduction of map in the Brock University Map, Data & GIS Library collection.
Georeferenced and modified from Brock call# G 3464 S35 G4 1966 S35 by Map, Data and GIS Library, Brock University.
Single Fused Map Cache: false
Extent:
XMin: 636526.9784937997
YMin: 4768184.229105444
XMax: 650707.7195737996
YMax: 4790104.811275444
Spatial Reference: 26917
(26917)
Initial Extent:
XMin: 636526.9784937997
YMin: 4768184.229105444
XMax: 650707.7195737996
YMax: 4790104.811275444
Spatial Reference: 26917
(26917)
Full Extent:
XMin: 636526.9784937997
YMin: 4768184.229105444
XMax: 650707.7195737996
YMax: 4790104.811275444
Spatial Reference: 26917
(26917)
Pixel Size X: 0.543489999999998
Pixel Size Y: 0.5434900000000075
Band Count: 1
Pixel Type: U16
RasterFunction Infos: {"rasterFunctionInfos": [{
"name": "None",
"description": "",
"help": ""
}]}
Mensuration Capabilities: Basic
Has Histograms: false
Has Colormap: false
Has Multi Dimensions : false
Rendering Rule:
Min Scale: 0
Max Scale: 0
Copyright Text: Proctor, Redfern, Bousfield & Bacon Consulting Engineers & Town Planners
Map, Data & GIS Library, Brock University.
Service Data Type: esriImageServiceDataTypeGeneric
Min Values: N/A
Max Values: N/A
Mean Values: N/A
Standard Deviation Values: N/A
Object ID Field:
Fields:
None
Default Mosaic Method: Center
Allowed Mosaic Methods:
SortField:
SortValue: null
Mosaic Operator: First
Default Compression Quality: 75
Default Resampling Method: Bilinear
Max Record Count: null
Max Image Height: 4100
Max Image Width: 15000
Max Download Image Count: null
Max Mosaic Image Count: null
Allow Raster Function: true
Allow Copy: true
Allow Analysis: true
Allow Compute TiePoints: false
Supports Statistics: false
Supports Advanced Queries: false
Use StandardizedQueries: true
Raster Type Infos:
Name: Raster Dataset
Description: Supports all ArcGIS Raster Datasets
Help:
Has Raster Attribute Table: false
Edit Fields Info: null
Ownership Based AccessControl For Rasters: null
Child Resources:
Info
Statistics
Key Properties
Legend
Raster Function Infos
Supported Operations:
Export Image
Identify
Measure
Compute Histograms
Compute Statistics Histograms
Get Samples
Compute Class Statistics
Query Boundary
Compute Pixel Location
Compute Angles
Validate
Project