View In:
ArcGIS JavaScript
ArcGIS Online Map Viewer
ArcGIS Earth
ArcMap
View Footprint In:
ArcGIS Online Map Viewer
Service Description: Historical map showing the names of land owners, concession and lot numbers, notes.
Copied from an original by Charles Chambers and Samuel Holland ; Signed Augustus Jones, 25th October 1791.
"Map #9" in margin.
Digital reproduction of map (33 x 49 cm.) in the Archives of Ontario.
Georeferenced and modified by Map, Data and GIS Library, Brock University.
Name: EarlyNiagara/StCatharinesGrantham1791
Description: Historical map showing the names of land owners, concession and lot numbers, notes.
Copied from an original by Charles Chambers and Samuel Holland ; Signed Augustus Jones, 25th October 1791.
"Map #9" in margin.
Digital reproduction of map (33 x 49 cm.) in the Archives of Ontario.
Georeferenced and modified by Map, Data and GIS Library, Brock University.
Single Fused Map Cache: false
Extent:
XMin: -8826589.062924013
YMin: 5328190.565537329
XMax: -8810805.797840012
YMax: 5351640.207977328
Spatial Reference: 102100
(3857)
Initial Extent:
XMin: -8826589.062924013
YMin: 5328190.565537329
XMax: -8810805.797840012
YMax: 5351640.207977328
Spatial Reference: 102100
(3857)
Full Extent:
XMin: -8826589.062924013
YMin: 5328190.565537329
XMax: -8810805.797840012
YMax: 5351640.207977328
Spatial Reference: 102100
(3857)
Pixel Size X: 3.8505160000000744
Pixel Size Y: 3.850515999999937
Band Count: 1
Pixel Type: U16
RasterFunction Infos: {"rasterFunctionInfos": [{
"name": "None",
"description": "",
"help": ""
}]}
Mensuration Capabilities: Basic
Has Histograms: true
Has Colormap: false
Has Multi Dimensions : false
Rendering Rule:
Min Scale: 0
Max Scale: 0
Copyright Text: Map, Data & GIS Library, Brock University.
Service Data Type: esriImageServiceDataTypeGeneric
Min Values: 0
Max Values: 255
Mean Values: 188.421482607
Standard Deviation Values: 39.021597437593
Object ID Field:
Fields:
None
Default Mosaic Method: Center
Allowed Mosaic Methods:
SortField:
SortValue: null
Mosaic Operator: First
Default Compression Quality: 75
Default Resampling Method: Bilinear
Max Record Count: null
Max Image Height: 4100
Max Image Width: 15000
Max Download Image Count: null
Max Mosaic Image Count: null
Allow Raster Function: true
Allow Copy: true
Allow Analysis: true
Allow Compute TiePoints: false
Supports Statistics: false
Supports Advanced Queries: false
Use StandardizedQueries: true
Raster Type Infos:
Name: Raster Dataset
Description: Supports all ArcGIS Raster Datasets
Help:
Has Raster Attribute Table: false
Edit Fields Info: null
Ownership Based AccessControl For Rasters: null
Child Resources:
Info
Histograms
Statistics
Key Properties
Legend
Raster Function Infos
Supported Operations:
Export Image
Identify
Measure
Compute Histograms
Compute Statistics Histograms
Get Samples
Compute Class Statistics
Query Boundary
Compute Pixel Location
Compute Angles
Validate
Project