View In:
ArcGIS JavaScript
ArcGIS Online Map Viewer
ArcGIS Earth
ArcMap
View Footprint In:
ArcGIS Online Map Viewer
Service Description: Historical map showing the names of land owners, concession and lot numbers, Twelve Mile Creek, notes. "Recopied in 1965 by M.J. Servos" from an original signed by August Jones, copied by Charles Chambers and signed by Samuel Holland. Signed Augustus Jones, 25th October 1791.
Name: EarlyNiagara/StCatharinesGrantham1791_col
Description: Historical map showing the names of land owners, concession and lot numbers, Twelve Mile Creek, notes. "Recopied in 1965 by M.J. Servos" from an original signed by August Jones, copied by Charles Chambers and signed by Samuel Holland. Signed Augustus Jones, 25th October 1791.
Single Fused Map Cache: false
Extent:
XMin: 638178.0886955493
YMin: 4771025.992605772
XMax: 652982.1024078703
YMax: 4790162.644005403
Spatial Reference: 26917
(26917)
Initial Extent:
XMin: 638178.0886955493
YMin: 4771025.992605772
XMax: 652982.1024078703
YMax: 4790162.644005403
Spatial Reference: 26917
(26917)
Full Extent:
XMin: 638178.0886955493
YMin: 4771025.992605772
XMax: 652982.1024078703
YMax: 4790162.644005403
Spatial Reference: 26917
(26917)
Pixel Size X: 2.9537138292739544
Pixel Size Y: 2.93822376779227
Band Count: 3
Pixel Type: U8
RasterFunction Infos: {"rasterFunctionInfos": [{
"name": "None",
"description": "",
"help": ""
}]}
Mensuration Capabilities: Basic
Has Histograms: true
Has Colormap: false
Has Multi Dimensions : false
Rendering Rule:
Min Scale: 0
Max Scale: 0
Copyright Text: Brock University Map, Data & GIS Library
Service Data Type: esriImageServiceDataTypeRGB
Min Values: 0, 0, 0
Max Values: 255, 255, 255
Mean Values: 230.77484395201, 186.24903002638, 111.8199604842
Standard Deviation Values: 37.298192245094, 32.401787423321, 22.925054616057
Object ID Field:
Fields:
None
Default Mosaic Method: Center
Allowed Mosaic Methods:
SortField:
SortValue: null
Mosaic Operator: First
Default Compression Quality: 75
Default Resampling Method: Bilinear
Max Record Count: null
Max Image Height: 4100
Max Image Width: 15000
Max Download Image Count: null
Max Mosaic Image Count: null
Allow Raster Function: true
Allow Copy: true
Allow Analysis: true
Allow Compute TiePoints: false
Supports Statistics: false
Supports Advanced Queries: false
Use StandardizedQueries: true
Raster Type Infos:
Name: Raster Dataset
Description: Supports all ArcGIS Raster Datasets
Help:
Has Raster Attribute Table: false
Edit Fields Info: null
Ownership Based AccessControl For Rasters: null
Child Resources:
Info
Histograms
Statistics
Key Properties
Legend
Raster Function Infos
Supported Operations:
Export Image
Identify
Measure
Compute Histograms
Compute Statistics Histograms
Get Samples
Compute Class Statistics
Query Boundary
Compute Pixel Location
Compute Angles
Validate
Project