View In:
ArcGIS JavaScript
ArcGIS Online Map Viewer
ArcGIS Earth
ArcMap
View Footprint In:
ArcGIS Online Map Viewer
Service Description: Map date: 1795
"A13" - written in margin.
"1138" - stamp in top right corner.
Scale [ca. 1:31,500]
Oriented with north to the right.
Digital reproduction of map (31 x 45 cm.) in the Brock University Map, Data & GIS Library collection.
Georeferenced and modified from negative version of Brock call# G 3464 G73 G46 1795 G73 by Map, Data and GIS Library, Brock University.
Name: EarlyNiagara/StCatharinesGrantham1795
Description: Map date: 1795
"A13" - written in margin.
"1138" - stamp in top right corner.
Scale [ca. 1:31,500]
Oriented with north to the right.
Digital reproduction of map (31 x 45 cm.) in the Brock University Map, Data & GIS Library collection.
Georeferenced and modified from negative version of Brock call# G 3464 G73 G46 1795 G73 by Map, Data and GIS Library, Brock University.
Single Fused Map Cache: false
Extent:
XMin: -8827846.790803302
YMin: 5324043.206065245
XMax: -8810347.668253303
YMax: 5350517.403815245
Spatial Reference: 102100
(3857)
Initial Extent:
XMin: -8827846.790803302
YMin: 5324043.206065245
XMax: -8810347.668253303
YMax: 5350517.403815245
Spatial Reference: 102100
(3857)
Full Extent:
XMin: -8827846.790803302
YMin: 5324043.206065245
XMax: -8810347.668253303
YMax: 5350517.403815245
Spatial Reference: 102100
(3857)
Pixel Size X: 3.7901499999998927
Pixel Size Y: 3.7901500000000405
Band Count: 3
Pixel Type: U16
RasterFunction Infos: {"rasterFunctionInfos": [{
"name": "None",
"description": "",
"help": ""
}]}
Mensuration Capabilities: Basic
Has Histograms: false
Has Colormap: false
Has Multi Dimensions : false
Rendering Rule:
Min Scale: 0
Max Scale: 0
Copyright Text: Map, Data & GIS Library, Brock University.
Service Data Type: esriImageServiceDataTypeGeneric
Min Values: 0, 0, 0
Max Values: 237, 237, 237
Mean Values: 205.32732337205, 206.00478428066, 206.64614318488
Standard Deviation Values: 69.558646538388, 68.238960934814, 66.940356701073
Object ID Field:
Fields:
None
Default Mosaic Method: Center
Allowed Mosaic Methods:
SortField:
SortValue: null
Mosaic Operator: First
Default Compression Quality: 75
Default Resampling Method: Bilinear
Max Record Count: null
Max Image Height: 4100
Max Image Width: 15000
Max Download Image Count: null
Max Mosaic Image Count: null
Allow Raster Function: true
Allow Copy: true
Allow Analysis: true
Allow Compute TiePoints: false
Supports Statistics: false
Supports Advanced Queries: false
Use StandardizedQueries: true
Raster Type Infos:
Name: Raster Dataset
Description: Supports all ArcGIS Raster Datasets
Help:
Has Raster Attribute Table: false
Edit Fields Info: null
Ownership Based AccessControl For Rasters: null
Child Resources:
Info
Statistics
Key Properties
Legend
Raster Function Infos
Supported Operations:
Export Image
Identify
Measure
Compute Histograms
Compute Statistics Histograms
Get Samples
Compute Class Statistics
Query Boundary
Compute Pixel Location
Compute Angles
Validate
Project