View In:
ArcGIS JavaScript
ArcGIS Online Map Viewer
ArcGIS Earth
ArcMap
View Footprint In:
ArcGIS Online Map Viewer
Service Description: Map date: 1795
Scale [ca. 1:28,600]
Digital reproduction of map (31 x 45 cm.) in the Brock University Map, Data & GIS Library collection.
"A14" in margin.
"1139" stamp in top left corner.
""An accurate plan of Township no.3 in the District of Nassau ... Nassau 25 Oct 1791 (signed) Augustus Jones ..., copied from an original by Mr. Chas Chambers (signed), Samuel Holland, Surv. Gen. Newark 30 January 1794. Copied by Sewiz Grant ... D.W. Smith ..., ammended and corrected the 28 March 1795, D.W.S."
Georeferenced and modified from Brock call# G 3464 G73 G46 1795a G73 by Map, Data and GIS Library, Brock University.
Name: EarlyNiagara/StCatharinesGrantham1795a
Description: Map date: 1795
Scale [ca. 1:28,600]
Digital reproduction of map (31 x 45 cm.) in the Brock University Map, Data & GIS Library collection.
"A14" in margin.
"1139" stamp in top left corner.
""An accurate plan of Township no.3 in the District of Nassau ... Nassau 25 Oct 1791 (signed) Augustus Jones ..., copied from an original by Mr. Chas Chambers (signed), Samuel Holland, Surv. Gen. Newark 30 January 1794. Copied by Sewiz Grant ... D.W. Smith ..., ammended and corrected the 28 March 1795, D.W.S."
Georeferenced and modified from Brock call# G 3464 G73 G46 1795a G73 by Map, Data and GIS Library, Brock University.
Single Fused Map Cache: false
Extent:
XMin: -8829090.104547998
YMin: 5325646.687975278
XMax: -8809317.834195998
YMax: 5352681.993859278
Spatial Reference: 102100
(3857)
Initial Extent:
XMin: -8829090.104547998
YMin: 5325646.687975278
XMax: -8809317.834195998
YMax: 5352681.993859278
Spatial Reference: 102100
(3857)
Full Extent:
XMin: -8829090.104547998
YMin: 5325646.687975278
XMax: -8809317.834195998
YMax: 5352681.993859278
Spatial Reference: 102100
(3857)
Pixel Size X: 4.041756000000076
Pixel Size Y: 4.041755999999987
Band Count: 3
Pixel Type: U16
RasterFunction Infos: {"rasterFunctionInfos": [{
"name": "None",
"description": "",
"help": ""
}]}
Mensuration Capabilities: Basic
Has Histograms: true
Has Colormap: false
Has Multi Dimensions : false
Rendering Rule:
Min Scale: 0
Max Scale: 0
Copyright Text: Corrected by D.W. SmithSigned: Augustus Jones, Chas Chambers.Map, Data & GIS Library, Brock University.
Service Data Type: esriImageServiceDataTypeGeneric
Min Values: 0, 0, 0
Max Values: 198, 198, 198
Mean Values: 175.45130537123, 176.04729010949, 176.6316273039
Standard Deviation Values: 51.729794190994, 50.50932064949, 49.261928385554
Object ID Field:
Fields:
None
Default Mosaic Method: Center
Allowed Mosaic Methods:
SortField:
SortValue: null
Mosaic Operator: First
Default Compression Quality: 75
Default Resampling Method: Bilinear
Max Record Count: null
Max Image Height: 4100
Max Image Width: 15000
Max Download Image Count: null
Max Mosaic Image Count: null
Allow Raster Function: true
Allow Copy: true
Allow Analysis: true
Allow Compute TiePoints: false
Supports Statistics: false
Supports Advanced Queries: false
Use StandardizedQueries: true
Raster Type Infos:
Name: Raster Dataset
Description: Supports all ArcGIS Raster Datasets
Help:
Has Raster Attribute Table: false
Edit Fields Info: null
Ownership Based AccessControl For Rasters: null
Child Resources:
Info
Histograms
Statistics
Key Properties
Legend
Raster Function Infos
Supported Operations:
Export Image
Identify
Measure
Compute Histograms
Compute Statistics Histograms
Get Samples
Compute Class Statistics
Query Boundary
Compute Pixel Location
Compute Angles
Validate
Project