View In:
ArcGIS JavaScript
ArcGIS Online Map Viewer
ArcGIS Earth
ArcMap
View Footprint In:
ArcGIS Online Map Viewer
Service Description: Historical map showing lot and concession numbers, landowner names, political subdivision numbers, the 'old welland canal' (First and Second Welland Canals) and the "new canal' (Third Welland Canal).
Compiled by C.E. Ingersoll, C.E.
Relief shown by hachures.
Digital reproduction of map #1984.94.272 in the St.Catharines Museum,
Georeferenced and modified by Map, Data and GIS Library, Brock University.
Name: EarlyNiagara/StCatharinesGrantham1897
Description: Historical map showing lot and concession numbers, landowner names, political subdivision numbers, the 'old welland canal' (First and Second Welland Canals) and the "new canal' (Third Welland Canal).
Compiled by C.E. Ingersoll, C.E.
Relief shown by hachures.
Digital reproduction of map #1984.94.272 in the St.Catharines Museum,
Georeferenced and modified by Map, Data and GIS Library, Brock University.
Single Fused Map Cache: false
Extent:
XMin: -8825405.620878372
YMin: 5328243.741375589
XMax: -8811587.865992373
YMax: 5349254.812862589
Spatial Reference: 102100
(3857)
Initial Extent:
XMin: -8825405.620878372
YMin: 5328243.741375589
XMax: -8811587.865992373
YMax: 5349254.812862589
Spatial Reference: 102100
(3857)
Full Extent:
XMin: -8825405.620878372
YMin: 5328243.741375589
XMax: -8811587.865992373
YMax: 5349254.812862589
Spatial Reference: 102100
(3857)
Pixel Size X: 7.485240999999721
Pixel Size Y: 7.485241000000076
Band Count: 3
Pixel Type: U16
RasterFunction Infos: {"rasterFunctionInfos": [{
"name": "None",
"description": "",
"help": ""
}]}
Mensuration Capabilities: Basic
Has Histograms: true
Has Colormap: false
Has Multi Dimensions : false
Rendering Rule:
Min Scale: 0
Max Scale: 0
Copyright Text: Map, Data & GIS Library, Brock University.
Service Data Type: esriImageServiceDataTypeGeneric
Min Values: 0, 0, 0
Max Values: 249, 249, 246
Mean Values: 62.429708242755, 123.85953816892, 159.64599268831
Standard Deviation Values: 37.616044046358, 30.252669542664, 23.555993390742
Object ID Field:
Fields:
None
Default Mosaic Method: Center
Allowed Mosaic Methods:
SortField:
SortValue: null
Mosaic Operator: First
Default Compression Quality: 75
Default Resampling Method: Bilinear
Max Record Count: null
Max Image Height: 4100
Max Image Width: 15000
Max Download Image Count: null
Max Mosaic Image Count: null
Allow Raster Function: true
Allow Copy: true
Allow Analysis: true
Allow Compute TiePoints: false
Supports Statistics: false
Supports Advanced Queries: false
Use StandardizedQueries: true
Raster Type Infos:
Name: Raster Dataset
Description: Supports all ArcGIS Raster Datasets
Help:
Has Raster Attribute Table: false
Edit Fields Info: null
Ownership Based AccessControl For Rasters: null
Child Resources:
Info
Histograms
Statistics
Key Properties
Legend
Raster Function Infos
Supported Operations:
Export Image
Identify
Measure
Compute Histograms
Compute Statistics Histograms
Get Samples
Compute Class Statistics
Query Boundary
Compute Pixel Location
Compute Angles
Validate
Project