View In:
ArcGIS JavaScript
ArcGIS Online Map Viewer
ArcGIS Earth
ArcMap
View Footprint In:
ArcGIS Online Map Viewer
Service Description: Map date: 1836
Scale [ca. 1:4,038]
Includes inset: Elevation of the Hydraulic Ditches
Digital reproduction of map ( 37 x 56 cm.) in the Brock University Map, Data & GIS Library collection.
Georeferenced and modified from Brock call# G 3464 S35 1836 M35 by Map, Data and GIS Library, Brock University.
Name: EarlyNiagara/StCatharinesMaingyMap1836
Description: Map date: 1836
Scale [ca. 1:4,038]
Includes inset: Elevation of the Hydraulic Ditches
Digital reproduction of map ( 37 x 56 cm.) in the Brock University Map, Data & GIS Library collection.
Georeferenced and modified from Brock call# G 3464 S35 1836 M35 by Map, Data and GIS Library, Brock University.
Single Fused Map Cache: false
Extent:
XMin: -8823474.943243884
YMin: 5334773.22312612
XMax: -8819935.920187883
YMax: 5337552.21252612
Spatial Reference: 102100
(3857)
Initial Extent:
XMin: -8823474.943243884
YMin: 5334773.22312612
XMax: -8819935.920187883
YMax: 5337552.21252612
Spatial Reference: 102100
(3857)
Full Extent:
XMin: -8823474.943243884
YMin: 5334773.22312612
XMax: -8819935.920187883
YMax: 5337552.21252612
Spatial Reference: 102100
(3857)
Pixel Size X: 0.5318640000000708
Pixel Size Y: 0.5318640000000596
Band Count: 1
Pixel Type: U16
RasterFunction Infos: {"rasterFunctionInfos": [{
"name": "None",
"description": "",
"help": ""
}]}
Mensuration Capabilities: Basic
Has Histograms: true
Has Colormap: false
Has Multi Dimensions : false
Rendering Rule:
Min Scale: 0
Max Scale: 0
Copyright Text: Surveyor: Robert A. MaingyMap, Data & GIS Library, Brock University.
Service Data Type: esriImageServiceDataTypeGeneric
Min Values: 0
Max Values: 255
Mean Values: 177.73986487279
Standard Deviation Values: 39.039215465962
Object ID Field:
Fields:
None
Default Mosaic Method: Center
Allowed Mosaic Methods:
SortField:
SortValue: null
Mosaic Operator: First
Default Compression Quality: 75
Default Resampling Method: Bilinear
Max Record Count: null
Max Image Height: 4100
Max Image Width: 15000
Max Download Image Count: null
Max Mosaic Image Count: null
Allow Raster Function: true
Allow Copy: true
Allow Analysis: true
Allow Compute TiePoints: false
Supports Statistics: false
Supports Advanced Queries: false
Use StandardizedQueries: true
Raster Type Infos:
Name: Raster Dataset
Description: Supports all ArcGIS Raster Datasets
Help:
Has Raster Attribute Table: false
Edit Fields Info: null
Ownership Based AccessControl For Rasters: null
Child Resources:
Info
Histograms
Statistics
Key Properties
Legend
Raster Function Infos
Supported Operations:
Export Image
Identify
Measure
Compute Histograms
Compute Statistics Histograms
Get Samples
Compute Class Statistics
Query Boundary
Compute Pixel Location
Compute Angles
Validate
Project