View In:
ArcGIS JavaScript
ArcGIS Online Map Viewer
ArcGIS Earth
ArcMap
View Footprint In:
ArcGIS Online Map Viewer
Service Description: Historical map showing streets, buildings, lots, land owners, the first and second Welland Canal and locks.
Surveyed, drawn & published by Marcus Smith, 1852.
Relief shown by hachures and landform drawings.
Georeferenced and modified from NMC Map 16796 by Map, Data and GIS Library, Brock University.
Name: EarlyNiagara/StCatharinesMarcusSmith_1852
Description: Historical map showing streets, buildings, lots, land owners, the first and second Welland Canal and locks.
Surveyed, drawn & published by Marcus Smith, 1852.
Relief shown by hachures and landform drawings.
Georeferenced and modified from NMC Map 16796 by Map, Data and GIS Library, Brock University.
Single Fused Map Cache: false
Extent:
XMin: -8823666.550556716
YMin: 5333981.056679585
XMax: -8818844.490653094
YMax: 5337984.948653545
Spatial Reference: 102100
(3857)
Initial Extent:
XMin: -8823666.550556716
YMin: 5333981.056679585
XMax: -8818844.490653094
YMax: 5337984.948653545
Spatial Reference: 102100
(3857)
Full Extent:
XMin: -8823666.550556716
YMin: 5333981.056679585
XMax: -8818844.490653094
YMax: 5337984.948653545
Spatial Reference: 102100
(3857)
Pixel Size X: 0.29348399999999775
Pixel Size Y: 0.29348400000003916
Band Count: 3
Pixel Type: U16
RasterFunction Infos: {"rasterFunctionInfos": [{
"name": "None",
"description": "",
"help": ""
}]}
Mensuration Capabilities: Basic
Has Histograms: true
Has Colormap: false
Has Multi Dimensions : false
Rendering Rule:
Min Scale: 36111.909643
Max Scale: 282.124294
Copyright Text: Map, Data & GIS Library, Brock University.
Service Data Type: esriImageServiceDataTypeGeneric
Min Values: 0, 0, 0
Max Values: 208, 192, 169
Mean Values: 132.00431807907, 104.56331545457, 59.716319073662
Standard Deviation Values: 27.996889269038, 22.290076153685, 15.955909872819
Object ID Field:
Fields:
None
Default Mosaic Method: Center
Allowed Mosaic Methods:
SortField:
SortValue: null
Mosaic Operator: First
Default Compression Quality: 75
Default Resampling Method: Bilinear
Max Record Count: null
Max Image Height: 4100
Max Image Width: 15000
Max Download Image Count: null
Max Mosaic Image Count: null
Allow Raster Function: true
Allow Copy: true
Allow Analysis: true
Allow Compute TiePoints: false
Supports Statistics: false
Supports Advanced Queries: false
Use StandardizedQueries: true
Raster Type Infos:
Name: Raster Dataset
Description: Supports all ArcGIS Raster Datasets
Help:
Has Raster Attribute Table: false
Edit Fields Info: null
Ownership Based AccessControl For Rasters: null
Child Resources:
Info
Histograms
Statistics
Key Properties
Legend
Raster Function Infos
Supported Operations:
Export Image
Identify
Measure
Compute Histograms
Compute Statistics Histograms
Get Samples
Compute Class Statistics
Query Boundary
Compute Pixel Location
Compute Angles
Validate
Project