View In:
ArcGIS JavaScript
ArcGIS Online Map Viewer
ArcGIS Earth
ArcMap
View Footprint In:
ArcGIS Online Map Viewer
Service Description: Map printed 1980, of buildings built before 1915.
Digital reproduction of map ( 27 x 47 cm.) in the Brock University Map, Data & GIS Library collection.
"... for the first year anniversary of One St. Paul 1979-1980."
Georeferenced and modified from Brock call# G 3464 S35 S1 1980 A63 by Map, Data and GIS Library, Brock University.
Name: EarlyNiagara/StCatharinesShipmansCorners1915
Description: Map printed 1980, of buildings built before 1915.
Digital reproduction of map ( 27 x 47 cm.) in the Brock University Map, Data & GIS Library collection.
"... for the first year anniversary of One St. Paul 1979-1980."
Georeferenced and modified from Brock call# G 3464 S35 S1 1980 A63 by Map, Data and GIS Library, Brock University.
Single Fused Map Cache: false
Extent:
XMin: -8822659.329201438
YMin: 5335154.673882827
XMax: -8821242.050961437
YMax: 5336080.122828827
Spatial Reference: 102100
(3857)
Initial Extent:
XMin: -8822659.329201438
YMin: 5335154.673882827
XMax: -8821242.050961437
YMax: 5336080.122828827
Spatial Reference: 102100
(3857)
Full Extent:
XMin: -8822659.329201438
YMin: 5335154.673882827
XMax: -8821242.050961437
YMax: 5336080.122828827
Spatial Reference: 102100
(3857)
Pixel Size X: 0.2812060000001645
Pixel Size Y: 0.2812060000000233
Band Count: 3
Pixel Type: U16
RasterFunction Infos: {"rasterFunctionInfos": [{
"name": "None",
"description": "",
"help": ""
}]}
Mensuration Capabilities: Basic
Has Histograms: true
Has Colormap: false
Has Multi Dimensions : false
Rendering Rule:
Min Scale: 0
Max Scale: 0
Copyright Text: Publisher: York Hanover DevelopmentsMap, Data & GIS Library, Brock University.
Service Data Type: esriImageServiceDataTypeGeneric
Min Values: 2, 0, 0
Max Values: 255, 255, 249
Mean Values: 227.18351112715, 180.92158176996, 132.49542582283
Standard Deviation Values: 19.055104615283, 53.934240611749, 43.818565017725
Object ID Field:
Fields:
None
Default Mosaic Method: Center
Allowed Mosaic Methods:
SortField:
SortValue: null
Mosaic Operator: First
Default Compression Quality: 75
Default Resampling Method: Bilinear
Max Record Count: null
Max Image Height: 4100
Max Image Width: 15000
Max Download Image Count: null
Max Mosaic Image Count: null
Allow Raster Function: true
Allow Copy: true
Allow Analysis: true
Allow Compute TiePoints: false
Supports Statistics: false
Supports Advanced Queries: false
Use StandardizedQueries: true
Raster Type Infos:
Name: Raster Dataset
Description: Supports all ArcGIS Raster Datasets
Help:
Has Raster Attribute Table: false
Edit Fields Info: null
Ownership Based AccessControl For Rasters: null
Child Resources:
Info
Histograms
Statistics
Key Properties
Legend
Raster Function Infos
Supported Operations:
Export Image
Identify
Measure
Compute Histograms
Compute Statistics Histograms
Get Samples
Compute Class Statistics
Query Boundary
Compute Pixel Location
Compute Angles
Validate
Project