View In:
ArcGIS JavaScript
ArcGIS Online Map Viewer
ArcGIS Earth
ArcMap
View Footprint In:
ArcGIS Online Map Viewer
Service Description: Historical map showing streets, railroads and business locations.
Scale [ca. 1:33,230]
Map date: [1950?]
Digital reproduction of map (63 x 46 cm.) in the Brock University Map, Data & GIS Library collection.
Georeferenced and modified from Brock call# G 3464 S35 1950 S87 by Map, Data and GIS Library, Brock University.
Name: EarlyNiagara/StCatharinesStreetMap1950part1
Description: Historical map showing streets, railroads and business locations.
Scale [ca. 1:33,230]
Map date: [1950?]
Digital reproduction of map (63 x 46 cm.) in the Brock University Map, Data & GIS Library collection.
Georeferenced and modified from Brock call# G 3464 S35 1950 S87 by Map, Data and GIS Library, Brock University.
Single Fused Map Cache: false
Extent:
XMin: 635087.1073755401
YMin: 4768933.21008275
XMax: 651229.45460454
YMax: 4790596.57485075
Spatial Reference: 26917
(26917)
Initial Extent:
XMin: 635087.1073755401
YMin: 4768933.21008275
XMax: 651229.45460454
YMax: 4790596.57485075
Spatial Reference: 26917
(26917)
Full Extent:
XMin: 635087.1073755401
YMin: 4768933.21008275
XMax: 651229.45460454
YMax: 4790596.57485075
Spatial Reference: 26917
(26917)
Pixel Size X: 1.4813569999999951
Pixel Size Y: 1.4813570000000218
Band Count: 3
Pixel Type: U16
RasterFunction Infos: {"rasterFunctionInfos": [{
"name": "None",
"description": "",
"help": ""
}]}
Mensuration Capabilities: Basic
Has Histograms: true
Has Colormap: false
Has Multi Dimensions : false
Rendering Rule:
Min Scale: 0
Max Scale: 0
Copyright Text: Map, Data & GIS Library, Brock University.
Service Data Type: esriImageServiceDataTypeGeneric
Min Values: 0, 0, 0
Max Values: 255, 255, 255
Mean Values: 173.09591448772, 198.28461079375, 206.12220784652
Standard Deviation Values: 34.920873803945, 40.146402967, 41.982630088265
Object ID Field:
Fields:
None
Default Mosaic Method: Center
Allowed Mosaic Methods:
SortField:
SortValue: null
Mosaic Operator: First
Default Compression Quality: 75
Default Resampling Method: Bilinear
Max Record Count: null
Max Image Height: 4100
Max Image Width: 15000
Max Download Image Count: null
Max Mosaic Image Count: null
Allow Raster Function: true
Allow Copy: true
Allow Analysis: true
Allow Compute TiePoints: false
Supports Statistics: false
Supports Advanced Queries: false
Use StandardizedQueries: true
Raster Type Infos:
Name: Raster Dataset
Description: Supports all ArcGIS Raster Datasets
Help:
Has Raster Attribute Table: false
Edit Fields Info: null
Ownership Based AccessControl For Rasters: null
Child Resources:
Info
Histograms
Statistics
Key Properties
Legend
Raster Function Infos
Supported Operations:
Export Image
Identify
Measure
Compute Histograms
Compute Statistics Histograms
Get Samples
Compute Class Statistics
Query Boundary
Compute Pixel Location
Compute Angles
Validate
Project