View In:
ArcGIS JavaScript
ArcGIS Online Map Viewer
ArcGIS Earth
ArcMap
View Footprint In:
ArcGIS Online Map Viewer
Service Description: Historical map showing street, transportation, cultural and recreational features, street numbering, ground cover, points of interest, indexes, legend.
Scale [ca. 1:12,000]
Map date: 1964.
Digital reproduction of map (95 x 55 cm.) in the Brock University Map, Data & GIS Library collection.
Georeferenced and modified from Brock call# G 3464 S35 1964 P3 by Map, Data and GIS Library, Brock University.
Name: EarlyNiagara/StCatharinesStreetMap1964
Description: Historical map showing street, transportation, cultural and recreational features, street numbering, ground cover, points of interest, indexes, legend.
Scale [ca. 1:12,000]
Map date: 1964.
Digital reproduction of map (95 x 55 cm.) in the Brock University Map, Data & GIS Library collection.
Georeferenced and modified from Brock call# G 3464 S35 1964 P3 by Map, Data and GIS Library, Brock University.
Single Fused Map Cache: false
Extent:
XMin: 638100.351873971
YMin: 4773993.026746928
XMax: 647742.0563469711
YMax: 4787955.594277928
Spatial Reference: 26917
(26917)
Initial Extent:
XMin: 638100.351873971
YMin: 4773993.026746928
XMax: 647742.0563469711
YMax: 4787955.594277928
Spatial Reference: 26917
(26917)
Full Extent:
XMin: 638100.351873971
YMin: 4773993.026746928
XMax: 647742.0563469711
YMax: 4787955.594277928
Spatial Reference: 26917
(26917)
Pixel Size X: 0.6293130000000013
Pixel Size Y: 0.6293129999999951
Band Count: 3
Pixel Type: U16
RasterFunction Infos: {"rasterFunctionInfos": [{
"name": "None",
"description": "",
"help": ""
}]}
Mensuration Capabilities: Basic
Has Histograms: true
Has Colormap: false
Has Multi Dimensions : false
Rendering Rule:
Min Scale: 0
Max Scale: 0
Copyright Text: Pathfinder Maps Inc.
Produced in Canada from aerial photographs by Pathfinder Air Surveys Ltd.
Distributed by Seaway News Company, St. Catharines
Map, Data & GIS Library, Brock University.
Service Data Type: esriImageServiceDataTypeGeneric
Min Values: 0, 0, 0
Max Values: 255, 255, 251
Mean Values: 203.81770693729, 200.16159062316, 185.28899820283
Standard Deviation Values: 54.149454423195, 52.073792251943, 48.612419589721
Object ID Field:
Fields:
None
Default Mosaic Method: Center
Allowed Mosaic Methods:
SortField:
SortValue: null
Mosaic Operator: First
Default Compression Quality: 75
Default Resampling Method: Bilinear
Max Record Count: null
Max Image Height: 4100
Max Image Width: 15000
Max Download Image Count: null
Max Mosaic Image Count: null
Allow Raster Function: true
Allow Copy: true
Allow Analysis: true
Allow Compute TiePoints: false
Supports Statistics: false
Supports Advanced Queries: false
Use StandardizedQueries: true
Raster Type Infos:
Name: Raster Dataset
Description: Supports all ArcGIS Raster Datasets
Help:
Has Raster Attribute Table: false
Edit Fields Info: null
Ownership Based AccessControl For Rasters: null
Child Resources:
Info
Histograms
Statistics
Key Properties
Legend
Raster Function Infos
Supported Operations:
Export Image
Identify
Measure
Compute Histograms
Compute Statistics Histograms
Get Samples
Compute Class Statistics
Query Boundary
Compute Pixel Location
Compute Angles
Validate
Project