View In:
ArcGIS JavaScript
ArcGIS Online Map Viewer
ArcGIS Earth
ArcMap
View Footprint In:
ArcGIS Online Map Viewer
Service Description: Historical map showing streets, cultural, tourist and hydrological features, legend. Includes street, points of interest and miscellaneous information indexs.
Name: EarlyNiagara/StCatharinesStreetMap1969
Description: Historical map showing streets, cultural, tourist and hydrological features, legend. Includes street, points of interest and miscellaneous information indexs.
Single Fused Map Cache: false
Extent:
XMin: 635694.1317339928
YMin: 4772425.67619428
XMax: 647854.6013715817
YMax: 4788344.179288721
Spatial Reference: 26917
(26917)
Initial Extent:
XMin: 635694.1317339928
YMin: 4772425.67619428
XMax: 647854.6013715817
YMax: 4788344.179288721
Spatial Reference: 26917
(26917)
Full Extent:
XMin: 635694.1317339928
YMin: 4772425.67619428
XMax: 647854.6013715817
YMax: 4788344.179288721
Spatial Reference: 26917
(26917)
Pixel Size X: 0.8944152425411026
Pixel Size Y: 0.8721511666907915
Band Count: 3
Pixel Type: U8
RasterFunction Infos: {"rasterFunctionInfos": [{
"name": "None",
"description": "",
"help": ""
}]}
Mensuration Capabilities: Basic
Has Histograms: true
Has Colormap: false
Has Multi Dimensions : false
Rendering Rule:
Min Scale: 0
Max Scale: 0
Copyright Text: Brock University Map, Data & GIS Library
Service Data Type: esriImageServiceDataTypeRGB
Min Values: 0, 0, 0
Max Values: 255, 255, 255
Mean Values: 209.27087112839, 203.74980345281, 178.59936010666
Standard Deviation Values: 59.999602991521, 54.804027925162, 48.369115652167
Object ID Field:
Fields:
None
Default Mosaic Method: Center
Allowed Mosaic Methods:
SortField:
SortValue: null
Mosaic Operator: First
Default Compression Quality: 75
Default Resampling Method: Bilinear
Max Record Count: null
Max Image Height: 4100
Max Image Width: 15000
Max Download Image Count: null
Max Mosaic Image Count: null
Allow Raster Function: true
Allow Copy: true
Allow Analysis: true
Allow Compute TiePoints: false
Supports Statistics: false
Supports Advanced Queries: false
Use StandardizedQueries: true
Raster Type Infos:
Name: Raster Dataset
Description: Supports all ArcGIS Raster Datasets
Help:
Has Raster Attribute Table: false
Edit Fields Info: null
Ownership Based AccessControl For Rasters: null
Child Resources:
Info
Histograms
Statistics
Key Properties
Legend
Raster Function Infos
Supported Operations:
Export Image
Identify
Measure
Compute Histograms
Compute Statistics Histograms
Get Samples
Compute Class Statistics
Query Boundary
Compute Pixel Location
Compute Angles
Validate
Project