View In:
ArcGIS JavaScript
ArcGIS Online Map Viewer
ArcGIS Earth
ArcMap
View Footprint In:
ArcGIS Online Map Viewer
Service Description: Map showing street, transportation, cultural and recreational features, points of interest, indexes, legend. Panel title on verso: St. Catharines Ontario, Canada visitors' tour map. Includes 2 ancillary maps on verso: St. Catharines and surrounding district -- Niagara Falls.
Name: EarlyNiagara/StCatharines_Street_Map_1967_part1_geo_tif
Description: Map showing street, transportation, cultural and recreational features, points of interest, indexes, legend. Panel title on verso: St. Catharines Ontario, Canada visitors' tour map. Includes 2 ancillary maps on verso: St. Catharines and surrounding district -- Niagara Falls.
Single Fused Map Cache: false
Extent:
XMin: 638860.0942535226
YMin: 4773182.71273614
XMax: 650204.7210252212
YMax: 4788610.1382546285
Spatial Reference: 26917
(26917)
Initial Extent:
XMin: 638860.0942535226
YMin: 4773182.71273614
XMax: 650204.7210252212
YMax: 4788610.1382546285
Spatial Reference: 26917
(26917)
Full Extent:
XMin: 638860.0942535226
YMin: 4773182.71273614
XMax: 650204.7210252212
YMax: 4788610.1382546285
Spatial Reference: 26917
(26917)
Pixel Size X: 1.0779766981849668
Pixel Size Y: 1.057687201322399
Band Count: 3
Pixel Type: U8
RasterFunction Infos: {"rasterFunctionInfos": [{
"name": "None",
"description": "",
"help": ""
}]}
Mensuration Capabilities: Basic
Has Histograms: true
Has Colormap: false
Has Multi Dimensions : false
Rendering Rule:
Min Scale: 0
Max Scale: 0
Copyright Text: Brock University Map, Data & GIS Library
Service Data Type: esriImageServiceDataTypeRGB
Min Values: 0, 0, 0
Max Values: 255, 255, 255
Mean Values: 224.00727123593, 210.46370425553, 192.10185824041
Standard Deviation Values: 45.995790268154, 51.998539992353, 51.1425633816
Object ID Field:
Fields:
None
Default Mosaic Method: Center
Allowed Mosaic Methods:
SortField:
SortValue: null
Mosaic Operator: First
Default Compression Quality: 75
Default Resampling Method: Bilinear
Max Record Count: null
Max Image Height: 4100
Max Image Width: 15000
Max Download Image Count: null
Max Mosaic Image Count: null
Allow Raster Function: true
Allow Copy: true
Allow Analysis: true
Allow Compute TiePoints: false
Supports Statistics: false
Supports Advanced Queries: false
Use StandardizedQueries: true
Raster Type Infos:
Name: Raster Dataset
Description: Supports all ArcGIS Raster Datasets
Help:
Has Raster Attribute Table: false
Edit Fields Info: null
Ownership Based AccessControl For Rasters: null
Child Resources:
Info
Histograms
Statistics
Key Properties
Legend
Raster Function Infos
Supported Operations:
Export Image
Identify
Measure
Compute Histograms
Compute Statistics Histograms
Get Samples
Compute Class Statistics
Query Boundary
Compute Pixel Location
Compute Angles
Validate
Project