View In:
ArcGIS JavaScript
ArcGIS Online Map Viewer
ArcGIS Earth
ArcMap
View Footprint In:
ArcGIS Online Map Viewer
Service Description: Map showing streets, places of interest, cultural features, miscellaneous and highway information, legend. On verso: Town of Thorold. Panel title: Welcome to St. Catharines "the Garden City" and Thorold "where ships climb the mountain." Includes street index.
Name: EarlyNiagara/Thorold1970
Description: Map showing streets, places of interest, cultural features, miscellaneous and highway information, legend. On verso: Town of Thorold. Panel title: Welcome to St. Catharines "the Garden City" and Thorold "where ships climb the mountain." Includes street index.
Single Fused Map Cache: false
Extent:
XMin: 632717.6744892703
YMin: 4758322.867335724
XMax: 656144.2458079266
YMax: 4789235.927318077
Spatial Reference: 26917
(26917)
Initial Extent:
XMin: 632717.6744892703
YMin: 4758322.867335724
XMax: 656144.2458079266
YMax: 4789235.927318077
Spatial Reference: 26917
(26917)
Full Extent:
XMin: 632717.6744892703
YMin: 4758322.867335724
XMax: 656144.2458079266
YMax: 4789235.927318077
Spatial Reference: 26917
(26917)
Pixel Size X: 2.1893991886594693
Pixel Size Y: 2.1396082490554327
Band Count: 3
Pixel Type: U8
RasterFunction Infos: {"rasterFunctionInfos": [{
"name": "None",
"description": "",
"help": ""
}]}
Mensuration Capabilities: Basic
Has Histograms: true
Has Colormap: false
Has Multi Dimensions : false
Rendering Rule:
Min Scale: 0
Max Scale: 0
Copyright Text: Brock University Map, Data & GIS Library
Service Data Type: esriImageServiceDataTypeRGB
Min Values: 0, 0, 0
Max Values: 255, 255, 255
Mean Values: 227.98682438984, 224.34102165926, 217.10074950065
Standard Deviation Values: 53.315380816438, 57.974317092625, 46.866801419556
Object ID Field:
Fields:
None
Default Mosaic Method: Center
Allowed Mosaic Methods:
SortField:
SortValue: null
Mosaic Operator: First
Default Compression Quality: 75
Default Resampling Method: Bilinear
Max Record Count: null
Max Image Height: 4100
Max Image Width: 15000
Max Download Image Count: null
Max Mosaic Image Count: null
Allow Raster Function: true
Allow Copy: true
Allow Analysis: true
Allow Compute TiePoints: false
Supports Statistics: false
Supports Advanced Queries: false
Use StandardizedQueries: true
Raster Type Infos:
Name: Raster Dataset
Description: Supports all ArcGIS Raster Datasets
Help:
Has Raster Attribute Table: false
Edit Fields Info: null
Ownership Based AccessControl For Rasters: null
Child Resources:
Info
Histograms
Statistics
Key Properties
Legend
Raster Function Infos
Supported Operations:
Export Image
Identify
Measure
Compute Histograms
Compute Statistics Histograms
Get Samples
Compute Class Statistics
Query Boundary
Compute Pixel Location
Compute Angles
Validate
Project