View In:
ArcGIS JavaScript
ArcGIS Online Map Viewer
ArcGIS Earth
ArcMap
View Footprint In:
ArcGIS Online Map Viewer
Service Description: Historical map showing southern Ontario with the most detail in York Co (now Toronto) and the Niagara Peninsula. Political jurisdictions, roads, forts, and physical features (such as: the Escarpment, marshes and creeks) are noted. Some names of settlers are identified.
Scale [1:316,800]. 1" to 5 miles.
Relief shown by hachures.
Map date: 1819
Digital reproduction of map (63 x 97 cm.) in the Public Archives of Canada. National Map Collection. Library and Archives Canada.
Georeferenced and modified from NMC Map number 18556 by Map, Data and GIS Library, Brock University.
Name: EarlyNiagara/UpperCanada1819NMC18556
Description: Historical map showing southern Ontario with the most detail in York Co (now Toronto) and the Niagara Peninsula. Political jurisdictions, roads, forts, and physical features (such as: the Escarpment, marshes and creeks) are noted. Some names of settlers are identified.
Scale [1:316,800]. 1" to 5 miles.
Relief shown by hachures.
Map date: 1819
Digital reproduction of map (63 x 97 cm.) in the Public Archives of Canada. National Map Collection. Library and Archives Canada.
Georeferenced and modified from NMC Map number 18556 by Map, Data and GIS Library, Brock University.
Single Fused Map Cache: false
Extent:
XMin: 463431.9284475114
YMin: 4696625.369770978
XMax: 736113.0402105114
YMax: 4913078.371252977
Spatial Reference: 26917
(26917)
Initial Extent:
XMin: 463431.9284475114
YMin: 4696625.369770978
XMax: 736113.0402105114
YMax: 4913078.371252977
Spatial Reference: 26917
(26917)
Full Extent:
XMin: 463431.9284475114
YMin: 4696625.369770978
XMax: 736113.0402105114
YMax: 4913078.371252977
Spatial Reference: 26917
(26917)
Pixel Size X: 38.804769
Pixel Size Y: 38.804768999999936
Band Count: 1
Pixel Type: U16
RasterFunction Infos: {"rasterFunctionInfos": [{
"name": "None",
"description": "",
"help": ""
}]}
Mensuration Capabilities: Basic
Has Histograms: true
Has Colormap: false
Has Multi Dimensions : false
Rendering Rule:
Min Scale: 0
Max Scale: 0
Copyright Text: ["signed"]
Service Data Type: esriImageServiceDataTypeGeneric
Min Values: 0
Max Values: 255
Mean Values: 182.20501255097
Standard Deviation Values: 39.89213486103
Object ID Field:
Fields:
None
Default Mosaic Method: Center
Allowed Mosaic Methods:
SortField:
SortValue: null
Mosaic Operator: First
Default Compression Quality: 75
Default Resampling Method: Bilinear
Max Record Count: null
Max Image Height: 4100
Max Image Width: 15000
Max Download Image Count: null
Max Mosaic Image Count: null
Allow Raster Function: true
Allow Copy: true
Allow Analysis: true
Allow Compute TiePoints: false
Supports Statistics: false
Supports Advanced Queries: false
Use StandardizedQueries: true
Raster Type Infos:
Name: Raster Dataset
Description: Supports all ArcGIS Raster Datasets
Help:
Has Raster Attribute Table: false
Edit Fields Info: null
Ownership Based AccessControl For Rasters: null
Child Resources:
Info
Histograms
Statistics
Key Properties
Legend
Raster Function Infos
Supported Operations:
Export Image
Identify
Measure
Compute Histograms
Compute Statistics Histograms
Get Samples
Compute Class Statistics
Query Boundary
Compute Pixel Location
Compute Angles
Validate
Project