View In:
ArcGIS JavaScript
ArcGIS Online Map Viewer
ArcGIS Earth
ArcMap
View Footprint In:
ArcGIS Online Map Viewer
Service Description: Historical map showing boundaries, major roads, place names, hydrological features.
Relief shown by hachures.
Map date: [1836]
"Tanner's Universal Atlas" - in top margin.
Digital reproduction of map in the Public Archives of Canada. National Map Collection. Library and Archives Canada.
Georeferenced and modified from NMC Map number 119052 by Map, Data and GIS Library, Brock University.
Name: EarlyNiagara/UpperCanada1836NMC119052
Description: Historical map showing boundaries, major roads, place names, hydrological features.
Relief shown by hachures.
Map date: [1836]
"Tanner's Universal Atlas" - in top margin.
Digital reproduction of map in the Public Archives of Canada. National Map Collection. Library and Archives Canada.
Georeferenced and modified from NMC Map number 119052 by Map, Data and GIS Library, Brock University.
Single Fused Map Cache: false
Extent:
XMin: -9336868.746711321
YMin: 4967180.845701213
XMax: -8226893.904987321
YMax: 5868991.746057213
Spatial Reference: 102100
(3857)
Initial Extent:
XMin: -9336868.746711321
YMin: 4967180.845701213
XMax: -8226893.904987321
YMax: 5868991.746057213
Spatial Reference: 102100
(3857)
Full Extent:
XMin: -9336868.746711321
YMin: 4967180.845701213
XMax: -8226893.904987321
YMax: 5868991.746057213
Spatial Reference: 102100
(3857)
Pixel Size X: 174.634179
Pixel Size Y: 174.63417900000005
Band Count: 3
Pixel Type: U16
RasterFunction Infos: {"rasterFunctionInfos": [{
"name": "None",
"description": "",
"help": ""
}]}
Mensuration Capabilities: Basic
Has Histograms: true
Has Colormap: false
Has Multi Dimensions : false
Rendering Rule:
Min Scale: 0
Max Scale: 0
Copyright Text: Published by H. S. Tanner, Philadelphia
Map, Data & GIS Library, Brock University.
Service Data Type: esriImageServiceDataTypeGeneric
Min Values: 57, 49, 42
Max Values: 248, 231, 211
Mean Values: 209.92943592563, 188.58233603697, 160.116874971
Standard Deviation Values: 30.510249569884, 30.223435783126, 31.276808516617
Object ID Field:
Fields:
None
Default Mosaic Method: Center
Allowed Mosaic Methods:
SortField:
SortValue: null
Mosaic Operator: First
Default Compression Quality: 75
Default Resampling Method: Bilinear
Max Record Count: null
Max Image Height: 4100
Max Image Width: 15000
Max Download Image Count: null
Max Mosaic Image Count: null
Allow Raster Function: true
Allow Copy: true
Allow Analysis: true
Allow Compute TiePoints: false
Supports Statistics: false
Supports Advanced Queries: false
Use StandardizedQueries: true
Raster Type Infos:
Name: Raster Dataset
Description: Supports all ArcGIS Raster Datasets
Help:
Has Raster Attribute Table: false
Edit Fields Info: null
Ownership Based AccessControl For Rasters: null
Child Resources:
Info
Histograms
Statistics
Key Properties
Legend
Raster Function Infos
Supported Operations:
Export Image
Identify
Measure
Compute Histograms
Compute Statistics Histograms
Get Samples
Compute Class Statistics
Query Boundary
Compute Pixel Location
Compute Angles
Validate
Project