View In:
ArcGIS JavaScript
ArcGIS Online Map Viewer
ArcGIS Earth
ArcMap
View Footprint In:
ArcGIS Online Map Viewer
Service Description: Map date: 1833? Scale [ca. 1:256,880] Digital reproduction of map ( 21 x 35 cm.) Georeferenced and modified from Brock call # G 3462 W45 1833 S54, by Map, Data and GIS Library, Brock University.
Name: EarlyNiagara/WellandCanal1833
Description: Map date: 1833? Scale [ca. 1:256,880] Digital reproduction of map ( 21 x 35 cm.) Georeferenced and modified from Brock call # G 3462 W45 1833 S54, by Map, Data and GIS Library, Brock University.
Single Fused Map Cache: false
Extent:
XMin: -8887377.741599923
YMin: 5276177.795386141
XMax: -8745433.283139924
YMax: 5362892.620366141
Spatial Reference: 102100
(3857)
Initial Extent:
XMin: -8887377.741599923
YMin: 5276177.795386141
XMax: -8745433.283139924
YMax: 5362892.620366141
Spatial Reference: 102100
(3857)
Full Extent:
XMin: -8887377.741599923
YMin: 5276177.795386141
XMax: -8745433.283139924
YMax: 5362892.620366141
Spatial Reference: 102100
(3857)
Pixel Size X: 30.71725999999987
Pixel Size Y: 30.717260000000014
Band Count: 1
Pixel Type: U16
RasterFunction Infos: {"rasterFunctionInfos": [{
"name": "None",
"description": "",
"help": ""
}]}
Mensuration Capabilities: Basic
Has Histograms: false
Has Colormap: false
Has Multi Dimensions : false
Rendering Rule:
Min Scale: 0
Max Scale: 0
Copyright Text: Map, Data & GIS Library, Brock University.
Service Data Type: esriImageServiceDataTypeGeneric
Min Values: 0
Max Values: 255
Mean Values: 211.83849103879
Standard Deviation Values: 19.586929899533
Object ID Field:
Fields:
None
Default Mosaic Method: Center
Allowed Mosaic Methods:
SortField:
SortValue: null
Mosaic Operator: First
Default Compression Quality: 75
Default Resampling Method: Bilinear
Max Record Count: null
Max Image Height: 4100
Max Image Width: 15000
Max Download Image Count: null
Max Mosaic Image Count: null
Allow Raster Function: true
Allow Copy: true
Allow Analysis: true
Allow Compute TiePoints: false
Supports Statistics: false
Supports Advanced Queries: false
Use StandardizedQueries: true
Raster Type Infos:
Name: Raster Dataset
Description: Supports all ArcGIS Raster Datasets
Help:
Has Raster Attribute Table: false
Edit Fields Info: null
Ownership Based AccessControl For Rasters: null
Child Resources:
Info
Statistics
Key Properties
Legend
Raster Function Infos
Supported Operations:
Export Image
Identify
Measure
Compute Histograms
Compute Statistics Histograms
Get Samples
Compute Class Statistics
Query Boundary
Compute Pixel Location
Compute Angles
Validate
Project