View In:
ArcGIS JavaScript
ArcGIS Online Map Viewer
ArcGIS Earth
ArcMap
View Footprint In:
ArcGIS Online Map Viewer
Service Description: Historical map showing the First and Second Welland Canal, locks, lift elevations, townships, roads, towing paths and bridges.
Digital reproduction of map (59 x 549 cm.) in the Public Archives of Canada. National Map Collection. Library and Archives Canada.
Relief shown by shading.
Georeferenced and modified from LAC e011168620 by Map, Data and GIS Library, Brock University.
Name: EarlyNiagara/WellandCanal1837NMC11848col5
Description: Historical map showing the First and Second Welland Canal, locks, lift elevations, townships, roads, towing paths and bridges.
Digital reproduction of map (59 x 549 cm.) in the Public Archives of Canada. National Map Collection. Library and Archives Canada.
Relief shown by shading.
Georeferenced and modified from LAC e011168620 by Map, Data and GIS Library, Brock University.
Single Fused Map Cache: false
Extent:
XMin: 642144.4595765972
YMin: 4762504.542057508
XMax: 646404.1352315972
YMax: 4766285.536251508
Spatial Reference: 26917
(26917)
Initial Extent:
XMin: 642144.4595765972
YMin: 4762504.542057508
XMax: 646404.1352315972
YMax: 4766285.536251508
Spatial Reference: 26917
(26917)
Full Extent:
XMin: 642144.4595765972
YMin: 4762504.542057508
XMax: 646404.1352315972
YMax: 4766285.536251508
Spatial Reference: 26917
(26917)
Pixel Size X: 0.6548310000000044
Pixel Size Y: 0.6548310000000048
Band Count: 3
Pixel Type: U16
RasterFunction Infos: {"rasterFunctionInfos": [{
"name": "None",
"description": "",
"help": ""
}]}
Mensuration Capabilities: Basic
Has Histograms: true
Has Colormap: false
Has Multi Dimensions : false
Rendering Rule:
Min Scale: 0
Max Scale: 0
Copyright Text: Map, Data & GIS Library, Brock University.
Service Data Type: esriImageServiceDataTypeGeneric
Min Values: 38, 41, 39
Max Values: 246, 236, 225
Mean Values: 219.70838131318, 195.99356667358, 156.03832511312
Standard Deviation Values: 13.177395953497, 10.74514974599, 10.994433086657
Object ID Field:
Fields:
None
Default Mosaic Method: Center
Allowed Mosaic Methods:
SortField:
SortValue: null
Mosaic Operator: First
Default Compression Quality: 75
Default Resampling Method: Bilinear
Max Record Count: null
Max Image Height: 4100
Max Image Width: 15000
Max Download Image Count: null
Max Mosaic Image Count: null
Allow Raster Function: true
Allow Copy: true
Allow Analysis: true
Allow Compute TiePoints: false
Supports Statistics: false
Supports Advanced Queries: false
Use StandardizedQueries: true
Raster Type Infos:
Name: Raster Dataset
Description: Supports all ArcGIS Raster Datasets
Help:
Has Raster Attribute Table: false
Edit Fields Info: null
Ownership Based AccessControl For Rasters: null
Child Resources:
Info
Histograms
Statistics
Key Properties
Legend
Raster Function Infos
Supported Operations:
Export Image
Identify
Measure
Compute Histograms
Compute Statistics Histograms
Get Samples
Compute Class Statistics
Query Boundary
Compute Pixel Location
Compute Angles
Validate
Project