View In:
ArcGIS JavaScript
ArcGIS Online Map Viewer
ArcGIS Earth
ArcMap
View Footprint In:
ArcGIS Online Map Viewer
Service Description: Historical map showing the First and Second Welland Canal complete with Feeder and extension to Port Colborne. Also shows proposed cut to Port Maitland from Feeder Canal, main rivers, creeks, settlements, the escarpment, and township boundaries.
Digital reproduction of map in the Public Archives of Canada. National Map Collection. Library and Archives Canada.
Relief shown by hachures.
Alternate title:"Welland Canal Capt. Bonnycastle 28th June 1837" is the endorsed title for this map in Joan Winearls' book, "Mapping Upper Canada, 1780-1867"
Georeferenced and modified from NMC Map number 21589 by Map, Data and GIS Library, Brock University.
Name: EarlyNiagara/WellandCanal1837NMC21589
Description: Historical map showing the First and Second Welland Canal complete with Feeder and extension to Port Colborne. Also shows proposed cut to Port Maitland from Feeder Canal, main rivers, creeks, settlements, the escarpment, and township boundaries.
Digital reproduction of map in the Public Archives of Canada. National Map Collection. Library and Archives Canada.
Relief shown by hachures.
Alternate title:"Welland Canal Capt. Bonnycastle 28th June 1837" is the endorsed title for this map in Joan Winearls' book, "Mapping Upper Canada, 1780-1867"
Georeferenced and modified from NMC Map number 21589 by Map, Data and GIS Library, Brock University.
Single Fused Map Cache: false
Extent:
XMin: -8883062.033448042
YMin: 5270299.371506889
XMax: -8775968.397655042
YMax: 5357643.935658889
Spatial Reference: 102100
(3857)
Initial Extent:
XMin: -8883062.033448042
YMin: 5270299.371506889
XMax: -8775968.397655042
YMax: 5357643.935658889
Spatial Reference: 102100
(3857)
Full Extent:
XMin: -8883062.033448042
YMin: 5270299.371506889
XMax: -8775968.397655042
YMax: 5357643.935658889
Spatial Reference: 102100
(3857)
Pixel Size X: 14.19775100000006
Pixel Size Y: 14.197750999999926
Band Count: 1
Pixel Type: U16
RasterFunction Infos: {"rasterFunctionInfos": [{
"name": "None",
"description": "",
"help": ""
}]}
Mensuration Capabilities: Basic
Has Histograms: true
Has Colormap: false
Has Multi Dimensions : false
Rendering Rule:
Min Scale: 0
Max Scale: 0
Copyright Text: Map, Data & GIS Library, Brock University.
Service Data Type: esriImageServiceDataTypeGeneric
Min Values: 25
Max Values: 254
Mean Values: 172.12392521762
Standard Deviation Values: 35.053835438591
Object ID Field:
Fields:
None
Default Mosaic Method: Center
Allowed Mosaic Methods:
SortField:
SortValue: null
Mosaic Operator: First
Default Compression Quality: 75
Default Resampling Method: Bilinear
Max Record Count: null
Max Image Height: 4100
Max Image Width: 15000
Max Download Image Count: null
Max Mosaic Image Count: null
Allow Raster Function: true
Allow Copy: true
Allow Analysis: true
Allow Compute TiePoints: false
Supports Statistics: false
Supports Advanced Queries: false
Use StandardizedQueries: true
Raster Type Infos:
Name: Raster Dataset
Description: Supports all ArcGIS Raster Datasets
Help:
Has Raster Attribute Table: false
Edit Fields Info: null
Ownership Based AccessControl For Rasters: null
Child Resources:
Info
Histograms
Statistics
Key Properties
Legend
Raster Function Infos
Supported Operations:
Export Image
Identify
Measure
Compute Histograms
Compute Statistics Histograms
Get Samples
Compute Class Statistics
Query Boundary
Compute Pixel Location
Compute Angles
Validate
Project