View In:
ArcGIS JavaScript
ArcGIS Online Map Viewer
ArcGIS Earth
ArcMap
View Footprint In:
ArcGIS Online Map Viewer
Service Description: Title on map: St. Catharines Second Welland Canal Period.
Map date: Produced approx. 1980, with informatin as of 1845.
Digital reproduction of map in the Map, Data and GIS Library, Brock University.
Georeferenced and modified from Brock call # G 3462 W45 1829 N3 no.5, by Map, Data and GIS Library, Brock University.
Name: EarlyNiagara/WellandCanal1845Lock4_7
Description: Title on map: St. Catharines Second Welland Canal Period.
Map date: Produced approx. 1980, with informatin as of 1845.
Digital reproduction of map in the Map, Data and GIS Library, Brock University.
Georeferenced and modified from Brock call # G 3462 W45 1829 N3 no.5, by Map, Data and GIS Library, Brock University.
Single Fused Map Cache: false
Extent:
XMin: -8821087.258816238
YMin: 5334600.446845092
XMax: -8819204.298176238
YMax: 5337180.156415092
Spatial Reference: 102100
(3857)
Initial Extent:
XMin: -8821087.258816238
YMin: 5334600.446845092
XMax: -8819204.298176238
YMax: 5337180.156415092
Spatial Reference: 102100
(3857)
Full Extent:
XMin: -8821087.258816238
YMin: 5334600.446845092
XMax: -8819204.298176238
YMax: 5337180.156415092
Spatial Reference: 102100
(3857)
Pixel Size X: 0.26746600000002546
Pixel Size Y: 0.2674659999999946
Band Count: 1
Pixel Type: U16
RasterFunction Infos: {"rasterFunctionInfos": [{
"name": "None",
"description": "",
"help": ""
}]}
Mensuration Capabilities: Basic
Has Histograms: true
Has Colormap: false
Has Multi Dimensions : false
Rendering Rule:
Min Scale: 0
Max Scale: 0
Copyright Text: Map, Data & GIS Library, Brock University.
Service Data Type: esriImageServiceDataTypeGeneric
Min Values: 0
Max Values: 255
Mean Values: 238.69160697569
Standard Deviation Values: 30.924773321041
Object ID Field:
Fields:
None
Default Mosaic Method: Center
Allowed Mosaic Methods:
SortField:
SortValue: null
Mosaic Operator: First
Default Compression Quality: 75
Default Resampling Method: Bilinear
Max Record Count: null
Max Image Height: 4100
Max Image Width: 15000
Max Download Image Count: null
Max Mosaic Image Count: null
Allow Raster Function: true
Allow Copy: true
Allow Analysis: true
Allow Compute TiePoints: false
Supports Statistics: false
Supports Advanced Queries: false
Use StandardizedQueries: true
Raster Type Infos:
Name: Raster Dataset
Description: Supports all ArcGIS Raster Datasets
Help:
Has Raster Attribute Table: false
Edit Fields Info: null
Ownership Based AccessControl For Rasters: null
Child Resources:
Info
Histograms
Statistics
Key Properties
Legend
Raster Function Infos
Supported Operations:
Export Image
Identify
Measure
Compute Histograms
Compute Statistics Histograms
Get Samples
Compute Class Statistics
Query Boundary
Compute Pixel Location
Compute Angles
Validate
Project