View In:
ArcGIS JavaScript
ArcGIS Online Map Viewer
ArcGIS Earth
ArcMap
View Footprint In:
ArcGIS Online Map Viewer
Service Description: Historical map is Map 1 from the Welland Canal Book 1, showing Port Dalhousie's roads, buildings, dry dock and Lock 1 of the First and Second Welland Canal. Includes lot and concession numbers, land owner names, buildings, the 'new' and 'old' harbour, the canal lock, towing path and measurements.
Relief shown by hachures.
Scale [ca. 1:2,461]
Map date: 1850.
Digital reproduction of map from the "Welland Canal Book 1" located in the James A. Gibson Special Collections' St. Lawrence Seaway Archives.
Georeferenced and modified from Brock call# G 3464 P66 1850 V55 by Map, Data and GIS Library, Brock University.
Name: EarlyNiagara/WellandCanal1850Bk1Map1
Description: Historical map is Map 1 from the Welland Canal Book 1, showing Port Dalhousie's roads, buildings, dry dock and Lock 1 of the First and Second Welland Canal. Includes lot and concession numbers, land owner names, buildings, the 'new' and 'old' harbour, the canal lock, towing path and measurements.
Relief shown by hachures.
Scale [ca. 1:2,461]
Map date: 1850.
Digital reproduction of map from the "Welland Canal Book 1" located in the James A. Gibson Special Collections' St. Lawrence Seaway Archives.
Georeferenced and modified from Brock call# G 3464 P66 1850 V55 by Map, Data and GIS Library, Brock University.
Single Fused Map Cache: false
Extent:
XMin: 640143.2982825893
YMin: 4783718.876708953
XMax: 641296.7106165893
YMax: 4785723.474347953
Spatial Reference: 26917
(26917)
Initial Extent:
XMin: 640143.2982825893
YMin: 4783718.876708953
XMax: 641296.7106165893
YMax: 4785723.474347953
Spatial Reference: 26917
(26917)
Full Extent:
XMin: 640143.2982825893
YMin: 4783718.876708953
XMax: 641296.7106165893
YMax: 4785723.474347953
Spatial Reference: 26917
(26917)
Pixel Size X: 0.24998099999999854
Pixel Size Y: 0.2499810000000054
Band Count: 3
Pixel Type: U16
RasterFunction Infos: {"rasterFunctionInfos": [{
"name": "None",
"description": "",
"help": ""
}]}
Mensuration Capabilities: Basic
Has Histograms: true
Has Colormap: false
Has Multi Dimensions : false
Rendering Rule:
Min Scale: 0
Max Scale: 0
Copyright Text: Upper Canada. Board of Public Works.
Map, Data & GIS Library, Brock University.
Service Data Type: esriImageServiceDataTypeGeneric
Min Values: 0, 0, 0
Max Values: 255, 255, 255
Mean Values: 239.32520034333, 214.53800178365, 182.50415563402
Standard Deviation Values: 24.702865712435, 25.705450637006, 25.878895299941
Object ID Field:
Fields:
None
Default Mosaic Method: Center
Allowed Mosaic Methods:
SortField:
SortValue: null
Mosaic Operator: First
Default Compression Quality: 75
Default Resampling Method: Bilinear
Max Record Count: null
Max Image Height: 4100
Max Image Width: 15000
Max Download Image Count: null
Max Mosaic Image Count: null
Allow Raster Function: true
Allow Copy: true
Allow Analysis: true
Allow Compute TiePoints: false
Supports Statistics: false
Supports Advanced Queries: false
Use StandardizedQueries: true
Raster Type Infos:
Name: Raster Dataset
Description: Supports all ArcGIS Raster Datasets
Help:
Has Raster Attribute Table: false
Edit Fields Info: null
Ownership Based AccessControl For Rasters: null
Child Resources:
Info
Histograms
Statistics
Key Properties
Legend
Raster Function Infos
Supported Operations:
Export Image
Identify
Measure
Compute Histograms
Compute Statistics Histograms
Get Samples
Compute Class Statistics
Query Boundary
Compute Pixel Location
Compute Angles
Validate
Project