View In:
ArcGIS JavaScript
ArcGIS Online Map Viewer
ArcGIS Earth
ArcMap
View Footprint In:
ArcGIS Online Map Viewer
Service Description: Historical map showing land ownership in area of proposed route for the Third Welland Canal. Gives names of landowner, lot numbers, small section of street plan of St. Catharines in Rolls Ave. and old Lake Road area.
Includes table: "Schedule of land required for canal proposes between the concession line IV & V Township of Grantham and the Mouth of "May's Ravine."
Relief shown by hachures.
Scale [ca. 1:2,398]
Map date: 1873.
Digital reproduction of map (51 x 102 cm.) in the Public Archives of Canada. National Map Collection. Library & Archives Canada.
Georeferenced and modified from LAC e011168610 by Map, Data and GIS Library, Brock University.
Name: EarlyNiagara/WellandCanal1873StCatharinesPortDalhousie
Description: Historical map showing land ownership in area of proposed route for the Third Welland Canal. Gives names of landowner, lot numbers, small section of street plan of St. Catharines in Rolls Ave. and old Lake Road area.
Includes table: "Schedule of land required for canal proposes between the concession line IV & V Township of Grantham and the Mouth of "May's Ravine."
Relief shown by hachures.
Scale [ca. 1:2,398]
Map date: 1873.
Digital reproduction of map (51 x 102 cm.) in the Public Archives of Canada. National Map Collection. Library & Archives Canada.
Georeferenced and modified from LAC e011168610 by Map, Data and GIS Library, Brock University.
Single Fused Map Cache: false
Extent:
XMin: 639230.0530416996
YMin: 4780495.406102365
XMax: 644718.6728416996
YMax: 4785138.520502365
Spatial Reference: 26917
(26917)
Initial Extent:
XMin: 639230.0530416996
YMin: 4780495.406102365
XMax: 644718.6728416996
YMax: 4785138.520502365
Spatial Reference: 26917
(26917)
Full Extent:
XMin: 639230.0530416996
YMin: 4780495.406102365
XMax: 644718.6728416996
YMax: 4785138.520502365
Spatial Reference: 26917
(26917)
Pixel Size X: 1.4330599999999962
Pixel Size Y: 1.4330600000000961
Band Count: 3
Pixel Type: U16
RasterFunction Infos: {"rasterFunctionInfos": [{
"name": "None",
"description": "",
"help": ""
}]}
Mensuration Capabilities: Basic
Has Histograms: false
Has Colormap: false
Has Multi Dimensions : false
Rendering Rule:
Min Scale: 0
Max Scale: 0
Copyright Text: Signed by George Gibson, P.S. Surveyor.
Map, Data & GIS Library, Brock University.
Service Data Type: esriImageServiceDataTypeGeneric
Min Values: N/A
Max Values: N/A
Mean Values: N/A
Standard Deviation Values: N/A
Object ID Field:
Fields:
None
Default Mosaic Method: Center
Allowed Mosaic Methods:
SortField:
SortValue: null
Mosaic Operator: First
Default Compression Quality: 75
Default Resampling Method: Bilinear
Max Record Count: null
Max Image Height: 4100
Max Image Width: 15000
Max Download Image Count: null
Max Mosaic Image Count: null
Allow Raster Function: true
Allow Copy: true
Allow Analysis: true
Allow Compute TiePoints: false
Supports Statistics: false
Supports Advanced Queries: false
Use StandardizedQueries: true
Raster Type Infos:
Name: Raster Dataset
Description: Supports all ArcGIS Raster Datasets
Help:
Has Raster Attribute Table: false
Edit Fields Info: null
Ownership Based AccessControl For Rasters: null
Child Resources:
Info
Statistics
Key Properties
Legend
Raster Function Infos
Supported Operations:
Export Image
Identify
Measure
Compute Histograms
Compute Statistics Histograms
Get Samples
Compute Class Statistics
Query Boundary
Compute Pixel Location
Compute Angles
Validate
Project