View In:
ArcGIS JavaScript
ArcGIS Online Map Viewer
ArcGIS Earth
ArcMap
View Footprint In:
ArcGIS Online Map Viewer
Service Description: Historical map showing land ownership in area of proposed route for the Third Welland Canal. Gives names of landowner, lot numbers, small section of street plan of St. Catharines in Rolls Ave. and old Lake Road area.
Includes table: "Schedule of land required for canal proposes between the concession line IV & V Township of Grantham and the Mouth of "May's Ravine."
Signed: Geo Gibson, P.L. Surveyor, July 1873.
Includes stamp from the Thorold Office.
Relief shown by hachures.
Scale: 3 chains per inch.
Map date: 1873
Digital reproduction of map in the Public Archives of Canada. National Map Collection. Library & Archives Canada.
Georeferenced and modified from LAC e011168613 by Map, Data and GIS Library, Brock University.
Name: EarlyNiagara/WellandCanal1873StCatharinesPortDalhousieGeoGibson
Description: Historical map showing land ownership in area of proposed route for the Third Welland Canal. Gives names of landowner, lot numbers, small section of street plan of St. Catharines in Rolls Ave. and old Lake Road area.
Includes table: "Schedule of land required for canal proposes between the concession line IV & V Township of Grantham and the Mouth of "May's Ravine."
Signed: Geo Gibson, P.L. Surveyor, July 1873.
Includes stamp from the Thorold Office.
Relief shown by hachures.
Scale: 3 chains per inch.
Map date: 1873
Digital reproduction of map in the Public Archives of Canada. National Map Collection. Library & Archives Canada.
Georeferenced and modified from LAC e011168613 by Map, Data and GIS Library, Brock University.
Single Fused Map Cache: false
Extent:
XMin: 639435.3630686341
YMin: 4781207.565994546
XMax: 644505.3196856341
YMax: 4784501.365384546
Spatial Reference: 26917
(26917)
Initial Extent:
XMin: 639435.3630686341
YMin: 4781207.565994546
XMax: 644505.3196856341
YMax: 4784501.365384546
Spatial Reference: 26917
(26917)
Full Extent:
XMin: 639435.3630686341
YMin: 4781207.565994546
XMax: 644505.3196856341
YMax: 4784501.365384546
Spatial Reference: 26917
(26917)
Pixel Size X: 0.5669190000000053
Pixel Size Y: 0.5669190000000501
Band Count: 3
Pixel Type: U16
RasterFunction Infos: {"rasterFunctionInfos": [{
"name": "None",
"description": "",
"help": ""
}]}
Mensuration Capabilities: Basic
Has Histograms: true
Has Colormap: false
Has Multi Dimensions : false
Rendering Rule:
Min Scale: 0
Max Scale: 0
Copyright Text: Signed: Geo Gibson
Map, Data & GIS Library, Brock University.
Service Data Type: esriImageServiceDataTypeGeneric
Min Values: 28, 30, 25
Max Values: 253, 244, 229
Mean Values: 218.98951081906, 204.58851955905, 182.72489462883
Standard Deviation Values: 20.665690437899, 20.664190982253, 20.405495908733
Object ID Field:
Fields:
None
Default Mosaic Method: Center
Allowed Mosaic Methods:
SortField:
SortValue: null
Mosaic Operator: First
Default Compression Quality: 75
Default Resampling Method: Bilinear
Max Record Count: null
Max Image Height: 4100
Max Image Width: 15000
Max Download Image Count: null
Max Mosaic Image Count: null
Allow Raster Function: true
Allow Copy: true
Allow Analysis: true
Allow Compute TiePoints: false
Supports Statistics: false
Supports Advanced Queries: false
Use StandardizedQueries: true
Raster Type Infos:
Name: Raster Dataset
Description: Supports all ArcGIS Raster Datasets
Help:
Has Raster Attribute Table: false
Edit Fields Info: null
Ownership Based AccessControl For Rasters: null
Child Resources:
Info
Histograms
Statistics
Key Properties
Legend
Raster Function Infos
Supported Operations:
Export Image
Identify
Measure
Compute Histograms
Compute Statistics Histograms
Get Samples
Compute Class Statistics
Query Boundary
Compute Pixel Location
Compute Angles
Validate
Project