View In:
ArcGIS JavaScript
ArcGIS Online Map Viewer
ArcGIS Earth
ArcMap
View Footprint In:
ArcGIS Online Map Viewer
Service Description: Historical map showing land ownership in area of proposed route for the Third Welland Canal. Gives names of landowner, lot numbers, small section of street plan of St. Catharines in Rolls Ave. and old Lake Road area.
A chart indicates land required for canal purposes giving owner's name, lot and concession and approximate acreage.
Relief shown by hachures
Scale 3 chains per inch.
Signed: Thomas Monro and John Page. Thorold, Aug. 1, 1873
Map Date: 1873.
Library Archives Canada attributes this map to George Monro Gibson, though his signature is not on this version.
Digital reproduction of map in the Public Archives of Canada. National Map Collection. Library & Archives Canada.
Georeferenced and modified from LAC e011168611 by Map, Data and GIS Library, Brock University.
Name: EarlyNiagara/WellandCanal1873StCatharinesPortDalhousieGeoGibson2
Description: Historical map showing land ownership in area of proposed route for the Third Welland Canal. Gives names of landowner, lot numbers, small section of street plan of St. Catharines in Rolls Ave. and old Lake Road area.
A chart indicates land required for canal purposes giving owner's name, lot and concession and approximate acreage.
Relief shown by hachures
Scale 3 chains per inch.
Signed: Thomas Monro and John Page. Thorold, Aug. 1, 1873
Map Date: 1873.
Library Archives Canada attributes this map to George Monro Gibson, though his signature is not on this version.
Digital reproduction of map in the Public Archives of Canada. National Map Collection. Library & Archives Canada.
Georeferenced and modified from LAC e011168611 by Map, Data and GIS Library, Brock University.
Single Fused Map Cache: false
Extent:
XMin: 639818.5252723033
YMin: 4781061.34630552
XMax: 644016.5437363032
YMax: 4784881.247227521
Spatial Reference: 26917
(26917)
Initial Extent:
XMin: 639818.5252723033
YMin: 4781061.34630552
XMax: 644016.5437363032
YMax: 4784881.247227521
Spatial Reference: 26917
(26917)
Full Extent:
XMin: 639818.5252723033
YMin: 4781061.34630552
XMax: 644016.5437363032
YMax: 4784881.247227521
Spatial Reference: 26917
(26917)
Pixel Size X: 0.4351179999999963
Pixel Size Y: 0.43511800000004647
Band Count: 3
Pixel Type: U16
RasterFunction Infos: {"rasterFunctionInfos": [{
"name": "None",
"description": "",
"help": ""
}]}
Mensuration Capabilities: Basic
Has Histograms: true
Has Colormap: false
Has Multi Dimensions : false
Rendering Rule:
Min Scale: 0
Max Scale: 0
Copyright Text: Signed: Thomas Monroe
Signed: John Page
Attributed to: George Monro Gibson
Map, Data & GIS Library, Brock University.
Service Data Type: esriImageServiceDataTypeGeneric
Min Values: 26, 16, 8
Max Values: 255, 255, 255
Mean Values: 173.37763731806, 166.83664892616, 152.77892220509
Standard Deviation Values: 20.073658561763, 19.97673176842, 19.14446617524
Object ID Field:
Fields:
None
Default Mosaic Method: Center
Allowed Mosaic Methods:
SortField:
SortValue: null
Mosaic Operator: First
Default Compression Quality: 75
Default Resampling Method: Bilinear
Max Record Count: null
Max Image Height: 4100
Max Image Width: 15000
Max Download Image Count: null
Max Mosaic Image Count: null
Allow Raster Function: true
Allow Copy: true
Allow Analysis: true
Allow Compute TiePoints: false
Supports Statistics: false
Supports Advanced Queries: false
Use StandardizedQueries: true
Raster Type Infos:
Name: Raster Dataset
Description: Supports all ArcGIS Raster Datasets
Help:
Has Raster Attribute Table: false
Edit Fields Info: null
Ownership Based AccessControl For Rasters: null
Child Resources:
Info
Histograms
Statistics
Key Properties
Legend
Raster Function Infos
Supported Operations:
Export Image
Identify
Measure
Compute Histograms
Compute Statistics Histograms
Get Samples
Compute Class Statistics
Query Boundary
Compute Pixel Location
Compute Angles
Validate
Project