View In:
ArcGIS JavaScript
ArcGIS Online Map Viewer
ArcGIS Earth
ArcMap
View Footprint In:
ArcGIS Online Map Viewer
Service Description: Historical map showing streets, buildings in the Village of Thorold. the Welland Railway and the Welland Canal
Scale 1 in to 100 ft.
Digital reproduction of map in the Public Archives of Canada. National Map Collection. Library & Archives Canada.
Relief shown by hachures
Georeferenced and modified from LAC e011168614by Map, Data and GIS Library, Brock University.
Name: EarlyNiagara/WellandCanal1874WellandRailwayThorold
Description: Historical map showing streets, buildings in the Village of Thorold. the Welland Railway and the Welland Canal
Scale 1 in to 100 ft.
Digital reproduction of map in the Public Archives of Canada. National Map Collection. Library & Archives Canada.
Relief shown by hachures
Georeferenced and modified from LAC e011168614by Map, Data and GIS Library, Brock University.
Single Fused Map Cache: false
Extent:
XMin: 646505.7740617493
YMin: 4775787.840312966
XMax: 647256.9714457494
YMax: 4777611.693420966
Spatial Reference: 26917
(26917)
Initial Extent:
XMin: 646505.7740617493
YMin: 4775787.840312966
XMax: 647256.9714457494
YMax: 4777611.693420966
Spatial Reference: 26917
(26917)
Full Extent:
XMin: 646505.7740617493
YMin: 4775787.840312966
XMax: 647256.9714457494
YMax: 4777611.693420966
Spatial Reference: 26917
(26917)
Pixel Size X: 0.563962000000043
Pixel Size Y: 0.5639620000000032
Band Count: 3
Pixel Type: U16
RasterFunction Infos: {"rasterFunctionInfos": [{
"name": "None",
"description": "",
"help": ""
}]}
Mensuration Capabilities: Basic
Has Histograms: true
Has Colormap: false
Has Multi Dimensions : false
Rendering Rule:
Min Scale: 0
Max Scale: 0
Copyright Text: Signed: Thomas Monro
Signed: John Page
Map, Data & GIS Library, Brock University.
Service Data Type: esriImageServiceDataTypeGeneric
Min Values: 0, 0, 0
Max Values: 271, 271, 271
Mean Values: 228.16495102236, 212.67205950677, 185.63944561024
Standard Deviation Values: 16.124350267837, 19.226730145845, 23.786419841167
Object ID Field:
Fields:
None
Default Mosaic Method: Center
Allowed Mosaic Methods:
SortField:
SortValue: null
Mosaic Operator: First
Default Compression Quality: 75
Default Resampling Method: Bilinear
Max Record Count: null
Max Image Height: 4100
Max Image Width: 15000
Max Download Image Count: null
Max Mosaic Image Count: null
Allow Raster Function: true
Allow Copy: true
Allow Analysis: true
Allow Compute TiePoints: false
Supports Statistics: false
Supports Advanced Queries: false
Use StandardizedQueries: true
Raster Type Infos:
Name: Raster Dataset
Description: Supports all ArcGIS Raster Datasets
Help:
Has Raster Attribute Table: false
Edit Fields Info: null
Ownership Based AccessControl For Rasters: null
Child Resources:
Info
Histograms
Statistics
Key Properties
Legend
Raster Function Infos
Supported Operations:
Export Image
Identify
Measure
Compute Histograms
Compute Statistics Histograms
Get Samples
Compute Class Statistics
Query Boundary
Compute Pixel Location
Compute Angles
Validate
Project