View In:
ArcGIS JavaScript
ArcGIS Online Map Viewer
ArcGIS Earth
ArcMap
View Footprint In:
ArcGIS Online Map Viewer
Service Description: Historical map of the Second Welland Canal showing elevation and soundings and bore hole measurements, buildings and canal features.
Includes cross sections.
Scale 1 inch to 80 feet.
Relief shown by hachures and shading.
Map date: 1875.
Digital reproduction of map (46 x 95 cm.) in the Public Archives of Canada. National Map Collection. Library & Archives Canada.
Georeferenced and modified from LAC e011168615 by Map, Data and GIS Library, Brock University.
Name: EarlyNiagara/WellandCanal1875Section1
Description: Historical map of the Second Welland Canal showing elevation and soundings and bore hole measurements, buildings and canal features.
Includes cross sections.
Scale 1 inch to 80 feet.
Relief shown by hachures and shading.
Map date: 1875.
Digital reproduction of map (46 x 95 cm.) in the Public Archives of Canada. National Map Collection. Library & Archives Canada.
Georeferenced and modified from LAC e011168615 by Map, Data and GIS Library, Brock University.
Single Fused Map Cache: false
Extent:
XMin: 640205.1696913741
YMin: 4783323.6125809625
XMax: 641736.100951374
YMax: 4785865.276312962
Spatial Reference: 26917
(26917)
Initial Extent:
XMin: 640205.1696913741
YMin: 4783323.6125809625
XMax: 641736.100951374
YMax: 4785865.276312962
Spatial Reference: 26917
(26917)
Full Extent:
XMin: 640205.1696913741
YMin: 4783323.6125809625
XMax: 641736.100951374
YMax: 4785865.276312962
Spatial Reference: 26917
(26917)
Pixel Size X: 0.5297339999999942
Pixel Size Y: 0.5297339999999365
Band Count: 3
Pixel Type: U16
RasterFunction Infos: {"rasterFunctionInfos": [{
"name": "None",
"description": "",
"help": ""
}]}
Mensuration Capabilities: Basic
Has Histograms: false
Has Colormap: false
Has Multi Dimensions : false
Rendering Rule:
Min Scale: 0
Max Scale: 0
Copyright Text: Signed: Thomas Monro
Map, Data & GIS Library, Brock University.
Service Data Type: esriImageServiceDataTypeGeneric
Min Values: N/A
Max Values: N/A
Mean Values: N/A
Standard Deviation Values: N/A
Object ID Field:
Fields:
None
Default Mosaic Method: Center
Allowed Mosaic Methods:
SortField:
SortValue: null
Mosaic Operator: First
Default Compression Quality: 75
Default Resampling Method: Bilinear
Max Record Count: null
Max Image Height: 4100
Max Image Width: 15000
Max Download Image Count: null
Max Mosaic Image Count: null
Allow Raster Function: true
Allow Copy: true
Allow Analysis: true
Allow Compute TiePoints: false
Supports Statistics: false
Supports Advanced Queries: false
Use StandardizedQueries: true
Raster Type Infos:
Name: Raster Dataset
Description: Supports all ArcGIS Raster Datasets
Help:
Has Raster Attribute Table: false
Edit Fields Info: null
Ownership Based AccessControl For Rasters: null
Child Resources:
Info
Statistics
Key Properties
Legend
Raster Function Infos
Supported Operations:
Export Image
Identify
Measure
Compute Histograms
Compute Statistics Histograms
Get Samples
Compute Class Statistics
Query Boundary
Compute Pixel Location
Compute Angles
Validate
Project