View In:
ArcGIS JavaScript
ArcGIS Online Map Viewer
ArcGIS Earth
ArcMap
View Footprint In:
ArcGIS Online Map Viewer
Service Description: Historical map showing the canal at lot no. 26, towing path, back ditch, measurements, road allowance.
Relief shown by hachures.
Scale 1 inch to 4 chains
Map date: 1878
Title supplied by Public Archives of Canada.
Digital reproduction of map (8 1/4 x 14 1/2 in.) in the Public Archives of Canada. National Map Collection. Library & Archives Canada.
Georeferenced and modified from LAC e011168601by Map, Data and GIS Library, Brock University.
Name: EarlyNiagara/WellandCanal1878Lot26Con3Humberstone
Description: Historical map showing the canal at lot no. 26, towing path, back ditch, measurements, road allowance.
Relief shown by hachures.
Scale 1 inch to 4 chains
Map date: 1878
Title supplied by Public Archives of Canada.
Digital reproduction of map (8 1/4 x 14 1/2 in.) in the Public Archives of Canada. National Map Collection. Library & Archives Canada.
Georeferenced and modified from LAC e011168601by Map, Data and GIS Library, Brock University.
Single Fused Map Cache: false
Extent:
XMin: 643097.544774526
YMin: 4752981.63286327
XMax: 643773.096728526
YMax: 4754103.42907727
Spatial Reference: 26917
(26917)
Initial Extent:
XMin: 643097.544774526
YMin: 4752981.63286327
XMax: 643773.096728526
YMax: 4754103.42907727
Spatial Reference: 26917
(26917)
Full Extent:
XMin: 643097.544774526
YMin: 4752981.63286327
XMax: 643773.096728526
YMax: 4754103.42907727
Spatial Reference: 26917
(26917)
Pixel Size X: 0.44182600000001576
Pixel Size Y: 0.4418260000001268
Band Count: 3
Pixel Type: U16
RasterFunction Infos: {"rasterFunctionInfos": [{
"name": "None",
"description": "",
"help": ""
}]}
Mensuration Capabilities: Basic
Has Histograms: true
Has Colormap: false
Has Multi Dimensions : false
Rendering Rule:
Min Scale: 0
Max Scale: 0
Copyright Text: Name prined on map: "J, Wright formerly E.H. Carver"
Map, Data & GIS Library, Brock University.
Service Data Type: esriImageServiceDataTypeGeneric
Min Values: 2, 1, 2
Max Values: 247, 241, 230
Mean Values: 210.56072037005, 205.73826219434, 194.15376451717
Standard Deviation Values: 23.744914381096, 25.559401464342, 23.687403395924
Object ID Field:
Fields:
None
Default Mosaic Method: Center
Allowed Mosaic Methods:
SortField:
SortValue: null
Mosaic Operator: First
Default Compression Quality: 75
Default Resampling Method: Bilinear
Max Record Count: null
Max Image Height: 4100
Max Image Width: 15000
Max Download Image Count: null
Max Mosaic Image Count: null
Allow Raster Function: true
Allow Copy: true
Allow Analysis: true
Allow Compute TiePoints: false
Supports Statistics: false
Supports Advanced Queries: false
Use StandardizedQueries: true
Raster Type Infos:
Name: Raster Dataset
Description: Supports all ArcGIS Raster Datasets
Help:
Has Raster Attribute Table: false
Edit Fields Info: null
Ownership Based AccessControl For Rasters: null
Child Resources:
Info
Histograms
Statistics
Key Properties
Legend
Raster Function Infos
Supported Operations:
Export Image
Identify
Measure
Compute Histograms
Compute Statistics Histograms
Get Samples
Compute Class Statistics
Query Boundary
Compute Pixel Location
Compute Angles
Validate
Project