View In:
ArcGIS JavaScript
ArcGIS Online Map Viewer
ArcGIS Earth
ArcMap
View Footprint In:
ArcGIS Online Map Viewer
Service Description: Historical map showing routes of Second and Third Welland Canal, escarpment, ravines of creeks, rivers, weirs, supply basins, raceways, and position of locks on the third Canal, concession and lot numbers, landowners names, townships.
At head of title: "Sheet "C""
Relief shown by shading.
Scale [ca. 1:15,240]
Map date: 1879.
Digital reproduction of map (59 x 91 cm.) in the Public Archives of Canada. National Map Collection. Library & Archives Canada.
Georeferenced and modified from MapHst G 3462 W45 1879 M65 by Map, Data and GIS Library, Brock University.
Name: EarlyNiagara/WellandCanal1879AllanburgPortDalhousie
Description: Historical map showing routes of Second and Third Welland Canal, escarpment, ravines of creeks, rivers, weirs, supply basins, raceways, and position of locks on the third Canal, concession and lot numbers, landowners names, townships.
At head of title: "Sheet "C""
Relief shown by shading.
Scale [ca. 1:15,240]
Map date: 1879.
Digital reproduction of map (59 x 91 cm.) in the Public Archives of Canada. National Map Collection. Library & Archives Canada.
Georeferenced and modified from MapHst G 3462 W45 1879 M65 by Map, Data and GIS Library, Brock University.
Single Fused Map Cache: false
Extent:
XMin: 634553.5219370718
YMin: 4769134.276930997
XMax: 653054.2095590718
YMax: 4786751.748364997
Spatial Reference: 26917
(26917)
Initial Extent:
XMin: 634553.5219370718
YMin: 4769134.276930997
XMax: 653054.2095590718
YMax: 4786751.748364997
Spatial Reference: 26917
(26917)
Full Extent:
XMin: 634553.5219370718
YMin: 4769134.276930997
XMax: 653054.2095590718
YMax: 4786751.748364997
Spatial Reference: 26917
(26917)
Pixel Size X: 0.9968579999999999
Pixel Size Y: 0.996857999999997
Band Count: 1
Pixel Type: U16
RasterFunction Infos: {"rasterFunctionInfos": [{
"name": "None",
"description": "",
"help": ""
}]}
Mensuration Capabilities: Basic
Has Histograms: true
Has Colormap: false
Has Multi Dimensions : false
Rendering Rule:
Min Scale: 0
Max Scale: 0
Copyright Text: signed: Thomas Monro
signed: John Page
Published: Montreal : Burland Lithographic Co.
Map, Data & GIS Library, Brock University.
Service Data Type: esriImageServiceDataTypeGeneric
Min Values: 0
Max Values: 255
Mean Values: 233.58169627867
Standard Deviation Values: 58.732546596046
Object ID Field:
Fields:
None
Default Mosaic Method: Center
Allowed Mosaic Methods:
SortField:
SortValue: null
Mosaic Operator: First
Default Compression Quality: 75
Default Resampling Method: Bilinear
Max Record Count: null
Max Image Height: 4100
Max Image Width: 15000
Max Download Image Count: null
Max Mosaic Image Count: null
Allow Raster Function: true
Allow Copy: true
Allow Analysis: true
Allow Compute TiePoints: false
Supports Statistics: false
Supports Advanced Queries: false
Use StandardizedQueries: true
Raster Type Infos:
Name: Raster Dataset
Description: Supports all ArcGIS Raster Datasets
Help:
Has Raster Attribute Table: false
Edit Fields Info: null
Ownership Based AccessControl For Rasters: null
Child Resources:
Info
Histograms
Statistics
Key Properties
Legend
Raster Function Infos
Supported Operations:
Export Image
Identify
Measure
Compute Histograms
Compute Statistics Histograms
Get Samples
Compute Class Statistics
Query Boundary
Compute Pixel Location
Compute Angles
Validate
Project