View In:
ArcGIS JavaScript
ArcGIS Online Map Viewer
ArcGIS Earth
ArcMap
View Footprint In:
ArcGIS Online Map Viewer
Service Description: Historical map showing the canal at lot no. 26, public works boundary, back ditch, measurements.
Map date: 1882
Signed: Certified Geo. Gibson, P.L. Surveyor, Feby. 15th, 1882.
Title supplied by Public Archves of Canada.
Digital reproduction of map (8 1/2 x 20 1/4 in.) in the Public Archives of Canada. National Map Collection. Library & Archives Canada.
Georeferenced and modified from LAC e011168602 by Map, Data and GIS Library, Brock University.
Name: EarlyNiagara/WellandCanal1882Lot26Con3
Description: Historical map showing the canal at lot no. 26, public works boundary, back ditch, measurements.
Map date: 1882
Signed: Certified Geo. Gibson, P.L. Surveyor, Feby. 15th, 1882.
Title supplied by Public Archves of Canada.
Digital reproduction of map (8 1/2 x 20 1/4 in.) in the Public Archives of Canada. National Map Collection. Library & Archives Canada.
Georeferenced and modified from LAC e011168602 by Map, Data and GIS Library, Brock University.
Single Fused Map Cache: false
Extent:
XMin: 643103.6286828952
YMin: 4752243.415407429
XMax: 643913.8154348952
YMax: 4753930.999663429
Spatial Reference: 26917
(26917)
Initial Extent:
XMin: 643103.6286828952
YMin: 4752243.415407429
XMax: 643913.8154348952
YMax: 4753930.999663429
Spatial Reference: 26917
(26917)
Full Extent:
XMin: 643103.6286828952
YMin: 4752243.415407429
XMax: 643913.8154348952
YMax: 4753930.999663429
Spatial Reference: 26917
(26917)
Pixel Size X: 0.4572160000000049
Pixel Size Y: 0.457215999999969
Band Count: 3
Pixel Type: U16
RasterFunction Infos: {"rasterFunctionInfos": [{
"name": "None",
"description": "",
"help": ""
}]}
Mensuration Capabilities: Basic
Has Histograms: false
Has Colormap: false
Has Multi Dimensions : false
Rendering Rule:
Min Scale: 0
Max Scale: 0
Copyright Text: Signed: Certified Geo. Gibson
Map, Data & GIS Library, Brock University.
Service Data Type: esriImageServiceDataTypeGeneric
Min Values: N/A
Max Values: N/A
Mean Values: N/A
Standard Deviation Values: N/A
Object ID Field:
Fields:
None
Default Mosaic Method: Center
Allowed Mosaic Methods:
SortField:
SortValue: null
Mosaic Operator: First
Default Compression Quality: 75
Default Resampling Method: Bilinear
Max Record Count: null
Max Image Height: 4100
Max Image Width: 15000
Max Download Image Count: null
Max Mosaic Image Count: null
Allow Raster Function: true
Allow Copy: true
Allow Analysis: true
Allow Compute TiePoints: false
Supports Statistics: false
Supports Advanced Queries: false
Use StandardizedQueries: true
Raster Type Infos:
Name: Raster Dataset
Description: Supports all ArcGIS Raster Datasets
Help:
Has Raster Attribute Table: false
Edit Fields Info: null
Ownership Based AccessControl For Rasters: null
Child Resources:
Info
Statistics
Key Properties
Legend
Raster Function Infos
Supported Operations:
Export Image
Identify
Measure
Compute Histograms
Compute Statistics Histograms
Get Samples
Compute Class Statistics
Query Boundary
Compute Pixel Location
Compute Angles
Validate
Project