View In:
ArcGIS JavaScript
ArcGIS Online Map Viewer
ArcGIS Earth
ArcMap
View Footprint In:
ArcGIS Online Map Viewer
Service Description: Historical map showing the canal, Carleton and Geneva Streets, raceway, back ditch, proposed enbankment, lot numbers.
Scale: 1 inch to 5 chains
Map date: 1883
Title supplied by Public Archives of Canada.
Digital reproduction of map (10 x 18 1/2 in.) in the Public Archives of Canada. National Map Collection. Library & Archives Canada.
Georeferenced and modified from LAC e011168603 by Map, Data and GIS Library, Brock University.
Name: EarlyNiagara/WellandCanal1883Lot16Con4
Description: Historical map showing the canal, Carleton and Geneva Streets, raceway, back ditch, proposed enbankment, lot numbers.
Scale: 1 inch to 5 chains
Map date: 1883
Title supplied by Public Archives of Canada.
Digital reproduction of map (10 x 18 1/2 in.) in the Public Archives of Canada. National Map Collection. Library & Archives Canada.
Georeferenced and modified from LAC e011168603 by Map, Data and GIS Library, Brock University.
Single Fused Map Cache: false
Extent:
XMin: 642663.9468443036
YMin: 4780997.1433117185
XMax: 643836.4022963037
YMax: 4782971.059857719
Spatial Reference: 26917
(26917)
Initial Extent:
XMin: 642663.9468443036
YMin: 4780997.1433117185
XMax: 643836.4022963037
YMax: 4782971.059857719
Spatial Reference: 26917
(26917)
Full Extent:
XMin: 642663.9468443036
YMin: 4780997.1433117185
XMax: 643836.4022963037
YMax: 4782971.059857719
Spatial Reference: 26917
(26917)
Pixel Size X: 0.47200300000000955
Pixel Size Y: 0.4720030000000401
Band Count: 3
Pixel Type: U16
RasterFunction Infos: {"rasterFunctionInfos": [{
"name": "None",
"description": "",
"help": ""
}]}
Mensuration Capabilities: Basic
Has Histograms: false
Has Colormap: false
Has Multi Dimensions : false
Rendering Rule:
Min Scale: 0
Max Scale: 0
Copyright Text: Signed: Certified Correct. Geo. Gibson, P.L. Surveyor
Map, Data & GIS Library, Brock University.
Service Data Type: esriImageServiceDataTypeGeneric
Min Values: N/A
Max Values: N/A
Mean Values: N/A
Standard Deviation Values: N/A
Object ID Field:
Fields:
None
Default Mosaic Method: Center
Allowed Mosaic Methods:
SortField:
SortValue: null
Mosaic Operator: First
Default Compression Quality: 75
Default Resampling Method: Bilinear
Max Record Count: null
Max Image Height: 4100
Max Image Width: 15000
Max Download Image Count: null
Max Mosaic Image Count: null
Allow Raster Function: true
Allow Copy: true
Allow Analysis: true
Allow Compute TiePoints: false
Supports Statistics: false
Supports Advanced Queries: false
Use StandardizedQueries: true
Raster Type Infos:
Name: Raster Dataset
Description: Supports all ArcGIS Raster Datasets
Help:
Has Raster Attribute Table: false
Edit Fields Info: null
Ownership Based AccessControl For Rasters: null
Child Resources:
Info
Statistics
Key Properties
Legend
Raster Function Infos
Supported Operations:
Export Image
Identify
Measure
Compute Histograms
Compute Statistics Histograms
Get Samples
Compute Class Statistics
Query Boundary
Compute Pixel Location
Compute Angles
Validate
Project