View In:
ArcGIS JavaScript
ArcGIS Online Map Viewer
ArcGIS Earth
ArcMap
View Footprint In:
ArcGIS Online Map Viewer
Service Description: Historical map of the Second Welland Canal showing the east and west piers of the Port Dalhousie Harbour, the shoreline and the coal shoot.
Scale: 1:2,400
Map date: 1892
Digital reproduction of map in the Public Archives of Canada. National Map Collection. Library & Archives Canada.
Georeferenced and modified from LAC e011168604 by Map, Data and GIS Library, Brock University.
Name: EarlyNiagara/WellandCanal1892PortDalhousieharbour
Description: Historical map of the Second Welland Canal showing the east and west piers of the Port Dalhousie Harbour, the shoreline and the coal shoot.
Scale: 1:2,400
Map date: 1892
Digital reproduction of map in the Public Archives of Canada. National Map Collection. Library & Archives Canada.
Georeferenced and modified from LAC e011168604 by Map, Data and GIS Library, Brock University.
Single Fused Map Cache: false
Extent:
XMin: 640842.3760735819
YMin: 4784787.36106042
XMax: 641375.2773615819
YMax: 4785651.21654542
Spatial Reference: 26917
(26917)
Initial Extent:
XMin: 640842.3760735819
YMin: 4784787.36106042
XMax: 641375.2773615819
YMax: 4785651.21654542
Spatial Reference: 26917
(26917)
Full Extent:
XMin: 640842.3760735819
YMin: 4784787.36106042
XMax: 641375.2773615819
YMax: 4785651.21654542
Spatial Reference: 26917
(26917)
Pixel Size X: 0.1757590000000171
Pixel Size Y: 0.17575899999994227
Band Count: 3
Pixel Type: U16
RasterFunction Infos: {"rasterFunctionInfos": [{
"name": "None",
"description": "",
"help": ""
}]}
Mensuration Capabilities: Basic
Has Histograms: false
Has Colormap: false
Has Multi Dimensions : false
Rendering Rule:
Min Scale: 0
Max Scale: 0
Copyright Text: Signed: E. Gardiner
Map, Data & GIS Library, Brock University.
Service Data Type: esriImageServiceDataTypeGeneric
Min Values: N/A
Max Values: N/A
Mean Values: N/A
Standard Deviation Values: N/A
Object ID Field:
Fields:
None
Default Mosaic Method: Center
Allowed Mosaic Methods:
SortField:
SortValue: null
Mosaic Operator: First
Default Compression Quality: 75
Default Resampling Method: Bilinear
Max Record Count: null
Max Image Height: 4100
Max Image Width: 15000
Max Download Image Count: null
Max Mosaic Image Count: null
Allow Raster Function: true
Allow Copy: true
Allow Analysis: true
Allow Compute TiePoints: false
Supports Statistics: false
Supports Advanced Queries: false
Use StandardizedQueries: true
Raster Type Infos:
Name: Raster Dataset
Description: Supports all ArcGIS Raster Datasets
Help:
Has Raster Attribute Table: false
Edit Fields Info: null
Ownership Based AccessControl For Rasters: null
Child Resources:
Info
Statistics
Key Properties
Legend
Raster Function Infos
Supported Operations:
Export Image
Identify
Measure
Compute Histograms
Compute Statistics Histograms
Get Samples
Compute Class Statistics
Query Boundary
Compute Pixel Location
Compute Angles
Validate
Project