View In:
ArcGIS JavaScript
ArcGIS Online Map Viewer
ArcGIS Earth
ArcMap
View Footprint In:
ArcGIS Online Map Viewer
Service Description: Historical map of the Third Welland Canal showing the locks, bridges, railroads, place names.
Blueprint.
Map date: [1912?]
"Stamped on reverse: Dept. of Railways & Canals, File No. 9801. Date assigned from related maps with the same File No. and dated 1912" -- LAC description.
Digital reproduction of map in the Public Archives of Canada. National Map Collection. Library & Archives Canada.
Georeferenced and modified from LAC e011168606 by Map, Data and GIS Library, Brock University.
Name: EarlyNiagara/WellandCanal1912PortDalhousieThorold
Description: Historical map of the Third Welland Canal showing the locks, bridges, railroads, place names.
Blueprint.
Map date: [1912?]
"Stamped on reverse: Dept. of Railways & Canals, File No. 9801. Date assigned from related maps with the same File No. and dated 1912" -- LAC description.
Digital reproduction of map in the Public Archives of Canada. National Map Collection. Library & Archives Canada.
Georeferenced and modified from LAC e011168606 by Map, Data and GIS Library, Brock University.
Single Fused Map Cache: false
Extent:
XMin: 637677.3330998938
YMin: 4770115.326551548
XMax: 649328.4225198937
YMax: 4788107.8296515485
Spatial Reference: 26917
(26917)
Initial Extent:
XMin: 637677.3330998938
YMin: 4770115.326551548
XMax: 649328.4225198937
YMax: 4788107.8296515485
Spatial Reference: 26917
(26917)
Full Extent:
XMin: 637677.3330998938
YMin: 4770115.326551548
XMax: 649328.4225198937
YMax: 4788107.8296515485
Spatial Reference: 26917
(26917)
Pixel Size X: 2.5164339999999945
Pixel Size Y: 2.516434000000045
Band Count: 3
Pixel Type: U16
RasterFunction Infos: {"rasterFunctionInfos": [{
"name": "None",
"description": "",
"help": ""
}]}
Mensuration Capabilities: Basic
Has Histograms: false
Has Colormap: false
Has Multi Dimensions : false
Rendering Rule:
Min Scale: 0
Max Scale: 0
Copyright Text: Publisher: Canada. Dept. of Railways and Canals.
Map, Data & GIS Library, Brock University.
Service Data Type: esriImageServiceDataTypeGeneric
Min Values: N/A
Max Values: N/A
Mean Values: N/A
Standard Deviation Values: N/A
Object ID Field:
Fields:
None
Default Mosaic Method: Center
Allowed Mosaic Methods:
SortField:
SortValue: null
Mosaic Operator: First
Default Compression Quality: 75
Default Resampling Method: Bilinear
Max Record Count: null
Max Image Height: 4100
Max Image Width: 15000
Max Download Image Count: null
Max Mosaic Image Count: null
Allow Raster Function: true
Allow Copy: true
Allow Analysis: true
Allow Compute TiePoints: false
Supports Statistics: false
Supports Advanced Queries: false
Use StandardizedQueries: true
Raster Type Infos:
Name: Raster Dataset
Description: Supports all ArcGIS Raster Datasets
Help:
Has Raster Attribute Table: false
Edit Fields Info: null
Ownership Based AccessControl For Rasters: null
Child Resources:
Info
Statistics
Key Properties
Legend
Raster Function Infos
Supported Operations:
Export Image
Identify
Measure
Compute Histograms
Compute Statistics Histograms
Get Samples
Compute Class Statistics
Query Boundary
Compute Pixel Location
Compute Angles
Validate
Project