View In:
ArcGIS JavaScript
ArcGIS Online Map Viewer
ArcGIS Earth
ArcMap
View Footprint In:
ArcGIS Online Map Viewer
Service Description: Historical map showing the Second and Third Welland Canal with their locks, sections, tunnel and bridge. Includes lot and concession numbers, township boundaries, railways, major roads.
Scale [ca. 1:30,480]
Map date: 1916.
Digital reproduction of map (70 x 264 cm.) in the Brock University Map, Data & GIS Library collection.
Georeferenced and modified from Brock call# G 3462 W45 1916 B75 by Map, Data and GIS Library, Brock University.
Name: EarlyNiagara/WellandCanal1916North
Description: Historical map showing the Second and Third Welland Canal with their locks, sections, tunnel and bridge. Includes lot and concession numbers, township boundaries, railways, major roads.
Scale [ca. 1:30,480]
Map date: 1916.
Digital reproduction of map (70 x 264 cm.) in the Brock University Map, Data & GIS Library collection.
Georeferenced and modified from Brock call# G 3462 W45 1916 B75 by Map, Data and GIS Library, Brock University.
Single Fused Map Cache: false
Extent:
XMin: 638367.0508606163
YMin: 4770310.63647474
XMax: 649561.8900746163
YMax: 4786570.45667474
Spatial Reference: 26917
(26917)
Initial Extent:
XMin: 638367.0508606163
YMin: 4770310.63647474
XMax: 649561.8900746163
YMax: 4786570.45667474
Spatial Reference: 26917
(26917)
Full Extent:
XMin: 638367.0508606163
YMin: 4770310.63647474
XMax: 649561.8900746163
YMax: 4786570.45667474
Spatial Reference: 26917
(26917)
Pixel Size X: 0.939874000000003
Pixel Size Y: 0.9398739999999975
Band Count: 3
Pixel Type: U16
RasterFunction Infos: {"rasterFunctionInfos": [{
"name": "None",
"description": "",
"help": ""
}]}
Mensuration Capabilities: Basic
Has Histograms: true
Has Colormap: false
Has Multi Dimensions : false
Rendering Rule:
Min Scale: 0
Max Scale: 0
Copyright Text: Made by J.B. Brittain.
Department of Railways and Canals.
Map, Data & GIS Library, Brock University.
Service Data Type: esriImageServiceDataTypeGeneric
Min Values: 0, 0, 0
Max Values: 255, 255, 255
Mean Values: 223.73249820289, 203.52383900448, 158.78144085302
Standard Deviation Values: 48.057128735121, 43.136346750432, 31.459038396106
Object ID Field:
Fields:
None
Default Mosaic Method: Center
Allowed Mosaic Methods:
SortField:
SortValue: null
Mosaic Operator: First
Default Compression Quality: 75
Default Resampling Method: Bilinear
Max Record Count: null
Max Image Height: 4100
Max Image Width: 15000
Max Download Image Count: null
Max Mosaic Image Count: null
Allow Raster Function: true
Allow Copy: true
Allow Analysis: true
Allow Compute TiePoints: false
Supports Statistics: false
Supports Advanced Queries: false
Use StandardizedQueries: true
Raster Type Infos:
Name: Raster Dataset
Description: Supports all ArcGIS Raster Datasets
Help:
Has Raster Attribute Table: false
Edit Fields Info: null
Ownership Based AccessControl For Rasters: null
Child Resources:
Info
Histograms
Statistics
Key Properties
Legend
Raster Function Infos
Supported Operations:
Export Image
Identify
Measure
Compute Histograms
Compute Statistics Histograms
Get Samples
Compute Class Statistics
Query Boundary
Compute Pixel Location
Compute Angles
Validate
Project