View In:
ArcGIS JavaScript
ArcGIS Online Map Viewer
ArcGIS Earth
ArcMap
View Footprint In:
ArcGIS Online Map Viewer
Service Description: Historical map showing streets, lot numbers, concessions, township boundaries, railways, the locks and the location of factories along the Welland Canal.
Scale 1:1,200
"0-108" in margin.
Map date: [1920?]
1920 date derived from 1921 airphotos and other historical maps.
Digital reproduction of map in the Public Archives of Canada. National Map Collection. Library & Archives Canada.
Georeferenced and modified from LAC e011168618 by Map, Data and GIS Library, Brock University.
Name: EarlyNiagara/WellandCanal1920StCatharines
Description: Historical map showing streets, lot numbers, concessions, township boundaries, railways, the locks and the location of factories along the Welland Canal.
Scale 1:1,200
"0-108" in margin.
Map date: [1920?]
1920 date derived from 1921 airphotos and other historical maps.
Digital reproduction of map in the Public Archives of Canada. National Map Collection. Library & Archives Canada.
Georeferenced and modified from LAC e011168618 by Map, Data and GIS Library, Brock University.
Single Fused Map Cache: false
Extent:
XMin: 639240.2854411921
YMin: 4778517.206258328
XMax: 643641.7387851921
YMax: 4783333.369402328
Spatial Reference: 26917
(26917)
Initial Extent:
XMin: 639240.2854411921
YMin: 4778517.206258328
XMax: 643641.7387851921
YMax: 4783333.369402328
Spatial Reference: 26917
(26917)
Full Extent:
XMin: 639240.2854411921
YMin: 4778517.206258328
XMax: 643641.7387851921
YMax: 4783333.369402328
Spatial Reference: 26917
(26917)
Pixel Size X: 1.3823660000000118
Pixel Size Y: 1.382365999999964
Band Count: 3
Pixel Type: U16
RasterFunction Infos: {"rasterFunctionInfos": [{
"name": "None",
"description": "",
"help": ""
}]}
Mensuration Capabilities: Basic
Has Histograms: true
Has Colormap: false
Has Multi Dimensions : false
Rendering Rule:
Min Scale: 0
Max Scale: 0
Copyright Text: Map, Data & GIS Library, Brock University.
Service Data Type: esriImageServiceDataTypeGeneric
Min Values: 21, 18, 18
Max Values: 255, 249, 227
Mean Values: 206.58435050622, 192.0365138943, 168.85567767262
Standard Deviation Values: 14.881866910151, 15.014524273003, 15.656039097647
Object ID Field:
Fields:
None
Default Mosaic Method: Center
Allowed Mosaic Methods:
SortField:
SortValue: null
Mosaic Operator: First
Default Compression Quality: 75
Default Resampling Method: Bilinear
Max Record Count: null
Max Image Height: 4100
Max Image Width: 15000
Max Download Image Count: null
Max Mosaic Image Count: null
Allow Raster Function: true
Allow Copy: true
Allow Analysis: true
Allow Compute TiePoints: false
Supports Statistics: false
Supports Advanced Queries: false
Use StandardizedQueries: true
Raster Type Infos:
Name: Raster Dataset
Description: Supports all ArcGIS Raster Datasets
Help:
Has Raster Attribute Table: false
Edit Fields Info: null
Ownership Based AccessControl For Rasters: null
Child Resources:
Info
Histograms
Statistics
Key Properties
Legend
Raster Function Infos
Supported Operations:
Export Image
Identify
Measure
Compute Histograms
Compute Statistics Histograms
Get Samples
Compute Class Statistics
Query Boundary
Compute Pixel Location
Compute Angles
Validate
Project