View In:
ArcGIS JavaScript
ArcGIS Online Map Viewer
ArcGIS Earth
ArcMap
View Footprint In:
ArcGIS Online Map Viewer
Service Description: Historical map showing the First, Second and Third Welland Canal and route of the "future" or fourth canal, county and township boundaries, cities and towns, lot and concession numbers, roads, railways, industries, property landowner's names, churches.
Includes a cross-section profile across the top of the map, indicating the elevation changes between Lake Erie and Lake Ontario.
Welland Ship Canal, Office of Engineer in charge, St. Catharines, Ont. ; made by H.F. Marten.
"Maps & profiles no.27"
Digital reproduction of map (61 x 280 cm.)
Relief shown by contours and hachures
Georeferenced and modified by Map, Data and GIS Library, Brock University.
Name: EarlyNiagara/WellandCanal1925
Description: Historical map showing the First, Second and Third Welland Canal and route of the "future" or fourth canal, county and township boundaries, cities and towns, lot and concession numbers, roads, railways, industries, property landowner's names, churches.
Includes a cross-section profile across the top of the map, indicating the elevation changes between Lake Erie and Lake Ontario.
Welland Ship Canal, Office of Engineer in charge, St. Catharines, Ont. ; made by H.F. Marten.
"Maps & profiles no.27"
Digital reproduction of map (61 x 280 cm.)
Relief shown by contours and hachures
Georeferenced and modified by Map, Data and GIS Library, Brock University.
Single Fused Map Cache: false
Extent:
XMin: 632986.8254952993
YMin: 4739429.543141919
XMax: 652665.5474892993
YMax: 4796027.950025919
Spatial Reference: 26917
(26917)
Initial Extent:
XMin: 632986.8254952993
YMin: 4739429.543141919
XMax: 652665.5474892993
YMax: 4796027.950025919
Spatial Reference: 26917
(26917)
Full Extent:
XMin: 632986.8254952993
YMin: 4739429.543141919
XMax: 652665.5474892993
YMax: 4796027.950025919
Spatial Reference: 26917
(26917)
Pixel Size X: 1.9627690000000022
Pixel Size Y: 1.9627689999999898
Band Count: 3
Pixel Type: U16
RasterFunction Infos: {"rasterFunctionInfos": [{
"name": "None",
"description": "",
"help": ""
}]}
Mensuration Capabilities: Basic
Has Histograms: true
Has Colormap: false
Has Multi Dimensions : false
Rendering Rule:
Min Scale: 0
Max Scale: 0
Copyright Text: Map, Data & GIS Library, Brock University.
Service Data Type: esriImageServiceDataTypeGeneric
Min Values: 0, 0, 0
Max Values: 298, 298, 298
Mean Values: 202.17208486844, 188.76455349787, 164.84831130515
Standard Deviation Values: 27.694732485796, 27.893930549438, 27.070054756699
Object ID Field:
Fields:
None
Default Mosaic Method: Center
Allowed Mosaic Methods:
SortField:
SortValue: null
Mosaic Operator: First
Default Compression Quality: 75
Default Resampling Method: Bilinear
Max Record Count: null
Max Image Height: 4100
Max Image Width: 15000
Max Download Image Count: null
Max Mosaic Image Count: null
Allow Raster Function: true
Allow Copy: true
Allow Analysis: true
Allow Compute TiePoints: false
Supports Statistics: false
Supports Advanced Queries: false
Use StandardizedQueries: true
Raster Type Infos:
Name: Raster Dataset
Description: Supports all ArcGIS Raster Datasets
Help:
Has Raster Attribute Table: false
Edit Fields Info: null
Ownership Based AccessControl For Rasters: null
Child Resources:
Info
Histograms
Statistics
Key Properties
Legend
Raster Function Infos
Supported Operations:
Export Image
Identify
Measure
Compute Histograms
Compute Statistics Histograms
Get Samples
Compute Class Statistics
Query Boundary
Compute Pixel Location
Compute Angles
Validate
Project